BEGIN:VCALENDAR
VERSION:2.0
PRODID:-//ChamberMaster//Event Calendar 2.0//EN
METHOD:PUBLISH
X-PUBLISHED-TTL:P3D
REFRESH-INTERVAL:P3D
CALSCALE:GREGORIAN
BEGIN:VEVENT
DTSTART:20240528T173000Z
DTEND:20240528T190000Z
X-MICROSOFT-CDO-ALLDAYEVENT:FALSE
SUMMARY:Lunch & Learn: How to Build A Community: From Development to Connections
DESCRIPTION:Learn from Sterling Ranch Community Authority Board about how to build a community while building community.
X-ALT-DESC;FMTTYPE=text/html:Learn from Sterling Ranch Community Authority Board about how to build a community while building community.&nbsp\;
LOCATION:Overlook Clubhouse: 7853 Piney River Ave\, Littleton\, CO 80125
UID:e.7785.21502
SEQUENCE:3
DTSTAMP:20260421T123523Z
URL:https://members.douglascountychamber.org/events/details/lunch-learn-how-to-build-a-community-from-development-to-connections-21502
END:VEVENT

END:VCALENDAR
