BEGIN:VCALENDAR
VERSION:2.0
PRODID:-//ChamberMaster//Event Calendar 2.0//EN
METHOD:PUBLISH
X-PUBLISHED-TTL:P3D
REFRESH-INTERVAL:P3D
CALSCALE:GREGORIAN
BEGIN:VEVENT
DTSTART:20220716T000000Z
DTEND:20220716T020000Z
X-MICROSOFT-CDO-ALLDAYEVENT:FALSE
SUMMARY:Live.Laugh.Make a Splash!
DESCRIPTION:Please RSVP for Friday\, July 15th at Pirates Cove Waterpark for an evening of ice cream\, living\, laughing and making a splash to thank YOU for your continued business\, friendship and referrals. It is free for you and your family to attend. We will be fundraising for area non profit\, Project I See You. We look forward to splashing with you! Snag your spot today!
X-ALT-DESC;FMTTYPE=text/html:<span style="color:rgb(59\, 155\, 164)\; font-family:raleway\,sans-serif\; font-size:16px">Please RSVP for Friday\, July 15th at Pirates Cove Waterpark for an evening of ice cream\, living\, laughing and making a splash to&nbsp\;</span><strong>thank YOU</strong><span style="color:rgb(59\, 155\, 164)\; font-family:raleway\,sans-serif\; font-size:16px">&nbsp\;for your continued business\, friendship and referrals. It is free for you and your family to attend. We will be&nbsp\;</span><strong>fun</strong><span style="color:rgb(59\, 155\, 164)\; font-family:raleway\,sans-serif\; font-size:16px">draising for area non profit\,&nbsp\;<a href="https://www.projectiseeyou.org/" style="box-sizing: inherit\; background-color: transparent\; color: rgb(68\, 68\, 68)\; text-decoration-line: none\; outline: none\;" target="_blank">Project I See You</a>. We look forward to splashing with you! Snag your spot today!</span>
LOCATION:Pirates Cove Water Park\, 1225 W Belleview Ave\, Littleton\, CO 80120\, USA
UID:e.7785.20930
SEQUENCE:3
DTSTAMP:20260422T222323Z
URL:https://members.douglascountychamber.org/events/details/live-laugh-make-a-splash-20930
END:VEVENT

END:VCALENDAR
