BEGIN:VCALENDAR
VERSION:2.0
PRODID:-//ChamberMaster//Event Calendar 2.0//EN
METHOD:PUBLISH
X-PUBLISHED-TTL:P3D
REFRESH-INTERVAL:P3D
CALSCALE:GREGORIAN
BEGIN:VEVENT
DTSTART:20230317T233000Z
DTEND:20230318T030000Z
X-MICROSOFT-CDO-ALLDAYEVENT:FALSE
SUMMARY:Landmark Lectures at the Mansion: Defining Beer in the Ancient World
DESCRIPTION:Join the Highlands Ranch Mansion for Landmark Lectures on Friday\, March 17\, as Beer Archaeologist Travis Rupp presents "Defining Beer in the Ancient World". This evening promises to be an especially fun night whether you're a beer aficionado or just a fan of history in general. Tickets are on sale now for $20 and include appetizers and self-guided tours of the Mansion. Learn more: https://bit.ly/3Sp2W9a
X-ALT-DESC;FMTTYPE=text/html:Join the Highlands Ranch Mansion for Landmark Lectures on Friday\, March 17\, as Beer Archaeologist Travis Rupp presents &quot\;Defining Beer in the Ancient World&quot\;. This evening promises to be an especially fun night whether you&rsquo\;re a beer aficionado or just a fan of history in general. Tickets are on sale now for $20 and include appetizers and self-guided tours of the Mansion. Learn more: https://bit.ly/3Sp2W9a
LOCATION:Highlands Ranch Mansion\, 9950 E Gateway Drive\, Highlands Ranch\, CO 80126
UID:e.7785.21289
SEQUENCE:3
DTSTAMP:20260422T104113Z
URL:https://members.douglascountychamber.org/events/details/landmark-lectures-at-the-mansion-defining-beer-in-the-ancient-world-21289
END:VEVENT

END:VCALENDAR
