BEGIN:VCALENDAR
VERSION:2.0
PRODID:-//ChamberMaster//Event Calendar 2.0//EN
METHOD:PUBLISH
X-PUBLISHED-TTL:P3D
REFRESH-INTERVAL:P3D
CALSCALE:GREGORIAN
BEGIN:VEVENT
DTSTART:20230308T010000Z
DTEND:20230308T040000Z
X-MICROSOFT-CDO-ALLDAYEVENT:FALSE
SUMMARY:Ladies Bunco Night
DESCRIPTION:ALL LADIES WELCOME!!!  Come play Bunco (we will teach you)!  There will be snacks\, drinks and lots of fun!  You can even win cash prizes!\n\n\n\nGo to https://www.eventbrite.com/e/mama-bunco-tickets-513592578227 to get your tickets!
X-ALT-DESC;FMTTYPE=text/html:ALL LADIES WELCOME!!!&nbsp\; Come play Bunco (we will teach you)!&nbsp\; There will be snacks\, drinks and lots of fun!&nbsp\; You can even win cash prizes!<br />\n<br />\nGo to&nbsp\;https://www.eventbrite.com/e/mama-bunco-tickets-513592578227 to get your tickets!
LOCATION:The Village Workspace 7173 S. Havana St Suite 600 Centennial\, CO 80112
UID:e.7785.21291
SEQUENCE:3
DTSTAMP:20260422T103547Z
URL:https://members.douglascountychamber.org/events/details/ladies-bunco-night-21291
END:VEVENT

END:VCALENDAR
