BEGIN:VCALENDAR
VERSION:2.0
PRODID:-//ChamberMaster//Event Calendar 2.0//EN
METHOD:PUBLISH
X-PUBLISHED-TTL:P3D
REFRESH-INTERVAL:P3D
CALSCALE:GREGORIAN
BEGIN:VEVENT
DTSTART:20250614T150000Z
DTEND:20250614T180000Z
X-MICROSOFT-CDO-ALLDAYEVENT:FALSE
SUMMARY:KidFest
DESCRIPTION:Kick off your summer at KidFest! The Metro District's annual event has something for all ages\, including stage entertainment\, inflatables\, free activities\, food trucks\, and vendors sharing information about local services. This is a free community event
X-ALT-DESC;FMTTYPE=text/html:Kick off your summer at KidFest! The Metro District&#39\;s annual event has something for all ages\, including stage entertainment\, inflatables\, free activities\, food trucks\, and vendors sharing information about local services. This is a free community event
LOCATION:Civic Green Park 9292 S.Ridgeline Blvd. Highlands Ranch
UID:e.7785.21602
SEQUENCE:3
DTSTAMP:20260420T122035Z
URL:https://members.douglascountychamber.org/events/details/kidfest-06-14-2025-21602
END:VEVENT

END:VCALENDAR
