BEGIN:VCALENDAR
VERSION:2.0
PRODID:-//ChamberMaster//Event Calendar 2.0//EN
METHOD:PUBLISH
X-PUBLISHED-TTL:P3D
REFRESH-INTERVAL:P3D
CALSCALE:GREGORIAN
BEGIN:VEVENT
DTSTART:20230610T150000Z
DTEND:20230610T180000Z
X-MICROSOFT-CDO-ALLDAYEVENT:FALSE
SUMMARY:KidFest
DESCRIPTION:Families are invited to KidFest on Saturday\, June 10 for a morning of fun outdoors at Civic Green Park in Highlands Ranch. The Metro District hosts the annual event\, which takes place from 9 a.m. until noon. Highlights of the event include the Douglas County Sheriff's Office and their mounted patrol\, South Metro Fire Rescue and engine demonstrations\, a nerf dart battle zone\, obstacle course\, bubble blowers and more. Breakfast food will be available for purchase and vendors will be on-site to share information regarding local products and services. Entertainment will take place on center stage at Civic Green Park.
X-ALT-DESC;FMTTYPE=text/html:Families are invited to KidFest on Saturday\, June 10 for a morning of fun outdoors at Civic Green Park in Highlands Ranch. The Metro District hosts the annual event\, which takes place from 9 a.m. until noon. Highlights of the event include the Douglas County Sheriff&rsquo\;s Office and their mounted patrol\, South Metro Fire Rescue and engine demonstrations\, a nerf dart battle zone\, obstacle course\, bubble blowers and more. Breakfast food will be available for purchase and vendors will be on-site to share information regarding local products and services. Entertainment will take place on center stage at Civic Green Park.
LOCATION:Civic Green Park\, 9370 Ridgeline Blvd.\, Highlands Ranch\, CO 80129
UID:e.7785.21339
SEQUENCE:3
DTSTAMP:20260422T060701Z
URL:https://members.douglascountychamber.org/events/details/kidfest-06-10-2023-21339
END:VEVENT

END:VCALENDAR
