BEGIN:VCALENDAR
VERSION:2.0
PRODID:-//ChamberMaster//Event Calendar 2.0//EN
METHOD:PUBLISH
X-PUBLISHED-TTL:P3D
REFRESH-INTERVAL:P3D
CALSCALE:GREGORIAN
BEGIN:VEVENT
DTSTART:20230516T210000Z
DTEND:20230517T000000Z
X-MICROSOFT-CDO-ALLDAYEVENT:FALSE
SUMMARY:K9 Resorts Luxury Pet Hotel Tour and Networking
DESCRIPTION:K9 Resorts Luxury Pet Hotel invites us to come take a tour of the facility (from 3-4PM) followed by vendor booths\, samples of drinks and light bites\, and networking (from 4-6PM)\n\n \nCome see the beautiful K9 Resort and luxury facilities while networking with other Chamber and EDC members and visiting vendors! \n\n \n\nVendors: \n\nDistillery 291 \n\nFajita Pete's\n\nHydrate IV Bar\n\nProst Brewing\n\nI Heart Mac and Cheese\n\nBare Blends\n\nMax Taps\n\nAlison Ferguson- Liberty Mutual Pet Insurance
X-ALT-DESC;FMTTYPE=text/html:<strong><span style="font-size:16px\;">K9 Resorts Luxury Pet Hotel invites us to come take a tour of the facility (from 3-4PM) followed by vendor booths\, samples of drinks and light bites\, and networking (from 4-6PM)</span></strong><br />\n&nbsp\;\n<div style="color: rgb(89\, 89\, 89)\; font-family: Arial\, Verdana\, Helvetica\, sans-serif\; font-size: 14px\; white-space: pre-wrap\; background-color: rgb(255\, 255\, 255)\; text-align: center\;"><strong><span style="font-size:16px\;"><span style="font-weight: bold\; color: rgb(36\, 36\, 36)\;">Come see the beautiful K9 Resort and luxury facilities while networking with other Chamber and EDC members and visiting vendors! </span></span></strong></div>\n\n<div style="color: rgb(89\, 89\, 89)\; font-family: Arial\, Verdana\, Helvetica\, sans-serif\; font-size: 14px\; white-space: pre-wrap\; background-color: rgb(255\, 255\, 255)\; text-align: center\;">&nbsp\;</div>\n\n<div style="color: rgb(89\, 89\, 89)\; font-family: Arial\, Verdana\, Helvetica\, sans-serif\; font-size: 14px\; white-space: pre-wrap\; background-color: rgb(255\, 255\, 255)\; text-align: center\;"><strong><span style="font-size:16px\;"><span style="text-decoration-line: underline\; font-weight: bold\; color: rgb(36\, 36\, 36)\;">Vendors: </span></span></strong></div>\n\n<div style="color: rgb(89\, 89\, 89)\; font-family: Arial\, Verdana\, Helvetica\, sans-serif\; font-size: 14px\; white-space: pre-wrap\; background-color: rgb(255\, 255\, 255)\; text-align: center\;"><strong><span style="font-size:16px\;"><span style="font-weight: bold\; color: rgb(36\, 36\, 36)\;">Distillery 291&nbsp\;</span></span></strong></div>\n\n<div style="color: rgb(89\, 89\, 89)\; font-family: Arial\, Verdana\, Helvetica\, sans-serif\; font-size: 14px\; white-space: pre-wrap\; background-color: rgb(255\, 255\, 255)\; text-align: center\;"><strong><span style="font-size:16px\;"><span style="font-weight: bold\; color: rgb(36\, 36\, 36)\;">Fajita Pete&rsquo\;s</span></span></strong></div>\n\n<div style="color: rgb(89\, 89\, 89)\; font-family: Arial\, Verdana\, Helvetica\, sans-serif\; font-size: 14px\; white-space: pre-wrap\; background-color: rgb(255\, 255\, 255)\; text-align: center\;"><strong><span style="font-size:16px\;"><span style="font-weight: bold\; color: rgb(36\, 36\, 36)\;">Hydrate IV Bar</span></span></strong></div>\n\n<div style="color: rgb(89\, 89\, 89)\; font-family: Arial\, Verdana\, Helvetica\, sans-serif\; font-size: 14px\; white-space: pre-wrap\; background-color: rgb(255\, 255\, 255)\; text-align: center\;"><strong><span style="font-size:16px\;"><span style="font-weight: bold\; color: rgb(36\, 36\, 36)\;">Prost Brewing</span></span></strong></div>\n\n<div style="color: rgb(89\, 89\, 89)\; font-family: Arial\, Verdana\, Helvetica\, sans-serif\; font-size: 14px\; white-space: pre-wrap\; background-color: rgb(255\, 255\, 255)\; text-align: center\;"><strong><span style="font-size:16px\;"><span style="font-weight: bold\; color: rgb(36\, 36\, 36)\;">I Heart Mac and Cheese</span></span></strong></div>\n\n<div style="color: rgb(89\, 89\, 89)\; font-family: Arial\, Verdana\, Helvetica\, sans-serif\; font-size: 14px\; white-space: pre-wrap\; background-color: rgb(255\, 255\, 255)\; text-align: center\;"><strong><span style="font-size:16px\;"><span style="font-weight: bold\; color: rgb(36\, 36\, 36)\;">Bare Blends</span></span></strong></div>\n\n<div style="color: rgb(89\, 89\, 89)\; font-family: Arial\, Verdana\, Helvetica\, sans-serif\; font-size: 14px\; white-space: pre-wrap\; background-color: rgb(255\, 255\, 255)\; text-align: center\;"><strong><span style="font-size:16px\;"><span style="font-weight: bold\; color: rgb(36\, 36\, 36)\;">Max Taps<br />\nAlison Ferguson- Liberty Mutual Pet Insurance</span></span></strong></div>\n
LOCATION:K9 Resorts Luxury Pet Hotel
UID:e.7785.21332
SEQUENCE:3
DTSTAMP:20260422T071844Z
URL:https://members.douglascountychamber.org/events/details/k9-resorts-luxury-pet-hotel-tour-and-networking-21332
END:VEVENT

END:VCALENDAR
