BEGIN:VCALENDAR
VERSION:2.0
PRODID:-//ChamberMaster//Event Calendar 2.0//EN
METHOD:PUBLISH
X-PUBLISHED-TTL:P3D
REFRESH-INTERVAL:P3D
CALSCALE:GREGORIAN
BEGIN:VEVENT
DTSTART:20230324T170000Z
DTEND:20230324T180000Z
X-MICROSOFT-CDO-ALLDAYEVENT:FALSE
SUMMARY:Hydrate IV Bar Ribbon Cutting
DESCRIPTION:Help us welcome a Hydrate IV Bar's new location to Highlands Ranch and kick off their Grand Opening weekend with a Ribbon Cutting at 11am followed by a tour and refreshments until 12pm.  Complimentary B-12 Injections HALF OFF other injections and 30% off IV services!
X-ALT-DESC;FMTTYPE=text/html:<span style="font-size:16px\;"><span style="font-family:verdana\;">Help us welcome a Hydrate IV Bar&#39\;s new location to Highlands Ranch and kick off their Grand Opening weekend with a Ribbon Cutting at 11am followed by a tour and refreshments until 12pm.&nbsp\; Complimentary B-12 Injections HALF OFF other injections and 30% off IV services!&nbsp\;&nbsp\;<br />\n&nbsp\;</span></span>
LOCATION:
UID:e.7785.21287
SEQUENCE:3
DTSTAMP:20260422T103637Z
URL:https://members.douglascountychamber.org/events/details/hydrate-iv-bar-ribbon-cutting-21287
END:VEVENT

END:VCALENDAR
