BEGIN:VCALENDAR
VERSION:2.0
PRODID:-//ChamberMaster//Event Calendar 2.0//EN
METHOD:PUBLISH
X-PUBLISHED-TTL:P3D
REFRESH-INTERVAL:P3D
CALSCALE:GREGORIAN
BEGIN:VEVENT
DTSTART:20221115T230000Z
DTEND:20221116T003000Z
X-MICROSOFT-CDO-ALLDAYEVENT:FALSE
SUMMARY:Hops N Drops Ribbon Cutting
DESCRIPTION:It's time to cut the ribbon!\n\n\njoin us as we welcome Hops N Drops to Highlands Ranch!\n\n\n\nHops N Drops is a Neighborhood Gathering place specializing in beers\, burgers and their hand shaken icy fruit drops.  \n\n\n\nCheck out this delicious menu!
X-ALT-DESC;FMTTYPE=text/html:<div style="text-align: center\;"><span style="font-size:16px\;"><span style="font-family:verdana\;"><span style="font-size:24px\;">It&#39\;s time to cut the ribbon!</span></span></span></div>\n<br />\n<span style="font-size:16px\;"><span style="font-family:verdana\;">join us as we welcome Hops N Drops to Highlands Ranch!<br />\n<br />\nHops N Drops is a Neighborhood Gathering place specializing in beers\, burgers and their hand shaken icy fruit drops.&nbsp\;&nbsp\;<br />\n<br />\nCheck out this delicious <a href="https://hopsndrops.com/icy-drops-and-cocktails/">menu</a>!</span></span>
LOCATION:
UID:e.7785.21249
SEQUENCE:3
DTSTAMP:20260422T175433Z
URL:https://members.douglascountychamber.org/events/details/hops-n-drops-ribbon-cutting-21249
END:VEVENT

END:VCALENDAR
