BEGIN:VCALENDAR
VERSION:2.0
PRODID:-//ChamberMaster//Event Calendar 2.0//EN
METHOD:PUBLISH
X-PUBLISHED-TTL:P3D
REFRESH-INTERVAL:P3D
CALSCALE:GREGORIAN
BEGIN:VEVENT
DTSTART:20221112T160000Z
DTEND:20221113T000000Z
X-MICROSOFT-CDO-ALLDAYEVENT:FALSE
SUMMARY:Holiday Gift Fair
DESCRIPTION:This one-day show is the perfect opportunity to purchase gifts for yourself or someone special in your life. The Eastridge Recreation Center Gym and Track are filled with a variety of vendors ready to sell their unique work including jewelry\, pottery\, wooden crafts\, bath products\, holiday gifts\, and more! You will be delighted with the quality and selection.
X-ALT-DESC;FMTTYPE=text/html:This one-day show is the perfect opportunity to purchase gifts for yourself or someone special in your life. The Eastridge Recreation Center Gym and Track are filled with a variety of vendors ready to sell their unique work including jewelry\, pottery\, wooden crafts\, bath products\, holiday gifts\, and more! You will be delighted with the quality and selection.
LOCATION:Eastridge Recreation Center\, 9568 University Blvd\, Highlands Ranch 80126
UID:e.7785.21243
SEQUENCE:3
DTSTAMP:20260422T162954Z
URL:https://members.douglascountychamber.org/events/details/holiday-gift-fair-11-12-2022-21243
END:VEVENT

END:VCALENDAR
