BEGIN:VCALENDAR
VERSION:2.0
PRODID:-//ChamberMaster//Event Calendar 2.0//EN
METHOD:PUBLISH
X-PUBLISHED-TTL:P3D
REFRESH-INTERVAL:P3D
CALSCALE:GREGORIAN
BEGIN:VEVENT
DTSTART:20221203T170000Z
DTEND:20221203T220000Z
X-MICROSOFT-CDO-ALLDAYEVENT:FALSE
SUMMARY:Holiday Celebration at the Mansion
DESCRIPTION:Celebrate the holiday season at the Highlands Ranch Mansion\n\n\nRing in the holiday season at the historic Highlands Ranch Mansion on Saturday\, Dec. 3 from 10 a.m. to 3 p.m. Santa will arrive at the Mansion on a fire truck at 10:15 a.m. and will be on site visiting with guests the duration of the event.\n\n\n\nThe Holiday Celebration is free and open to the public. All ages will enjoy music\, gift vendors\, face painting\, horse-drawn hayrides\, reindeer games and more. Self-guided tours of the Mansion\, a gingerbread-themed scavenger hunt and a visit with the Douglas County Sheriff's Office mounted patrol will be highlights of the day. Most activities are outdoors\, so dress appropriately for the weather. The Simply Pizza food truck and the Knights of Columbus will be selling food and beverages.\n\nLocal elementary school choirs and music schools will be performing throughout the day and Douglas County Libraries will be hosting two story times.\n\n10:15 a.m. Santa arrives at the Mansion on a fire truck\n\n10:30 a.m. Douglas County Libraries holiday story time\n\n10:30 a.m. Summit View Elementary choir performance\n\n11:15 a.m. Noteworthy School for Strings performance\n\n11:30 a.m. Douglas County Libraries holiday story time\n\nNoon Roxborough Primary & Intermediate choir performance\n\n12:45 p.m. Eldorado Elementary choir performance\n\n1:30 p.m. Wildcat Mountain Elementary choir performance\n\n2:15 p.m. Sand Creek Elementary choir performance\n\n3 p.m. Event ends\n\n\nPLEASE NOTE: All parking is off-site at St. Andrew United Methodist Church\, 9203 S. University Blvd. Free shuttle buses will begin running at 9:30 a.m. and will continue until after the event is over. There is no parking available at the Highlands Ranch Mansion. Visit https://bit.ly/3U9op69 to learn more. Please contact info@highlandsranch.org or call 303-791-0430 with any questions.\n\n\n\nMake this fun\, free community event your holiday tradition. Enjoy visits with Santa\, self-guided tours of the Mansion\, games with fun prizes\, holiday storytime\, vendors\, entertainment and more. Food and refreshments will be available for purchase. This all-ages event is free and no reservations are required.
X-ALT-DESC;FMTTYPE=text/html:<h2 style="text-align: center\;"><span style="font-family:verdana\;">Celebrate the holiday season at the Highlands Ranch Mansion</span></h2>\n<br />\n<span style="font-size:16px\;"><span style="font-family:verdana\;">Ring in the holiday season at the historic Highlands Ranch Mansion on Saturday\, Dec. 3 from 10 a.m. to 3 p.m. Santa will arrive at the Mansion on a fire truck at 10:15 a.m. and will be on site visiting with guests the duration of the event.<br />\n<br />\nThe Holiday Celebration is free and open to the public. All ages will enjoy music\, gift vendors\, face painting\, horse-drawn hayrides\, reindeer games and more. Self-guided tours of the Mansion\, a gingerbread-themed scavenger hunt and a visit with the Douglas County Sheriff&rsquo\;s Office mounted patrol will be highlights of the day. Most activities are outdoors\, so dress appropriately for the weather. The Simply Pizza food truck and the Knights of Columbus will be selling food and beverages.<br />\nLocal elementary school choirs and music schools will be performing throughout the day and Douglas County Libraries will be hosting two story times.</span></span>\n\n<div style="margin-left: 40px\;"><span style="font-size:16px\;"><span style="font-family:verdana\;">10:15 a.m. Santa arrives at the Mansion on a fire truck<br />\n10:30 a.m. Douglas County Libraries holiday story time<br />\n10:30 a.m. Summit View Elementary choir performance<br />\n11:15 a.m. Noteworthy School for Strings performance<br />\n11:30 a.m. Douglas County Libraries holiday story time<br />\nNoon Roxborough Primary &amp\; Intermediate choir performance<br />\n12:45 p.m. Eldorado Elementary choir performance<br />\n1:30 p.m. Wildcat Mountain Elementary choir performance<br />\n2:15 p.m. Sand Creek Elementary choir performance<br />\n3 p.m. Event ends</span></span></div>\n<br />\n<span style="font-size:16px\;"><span style="font-family:verdana\;"><strong>PLEASE NOTE:</strong> All parking is off-site at St. Andrew United Methodist Church\, 9203 S. University Blvd. Free shuttle buses will begin running at 9:30 a.m. and will continue until after the event is over. There is no parking available at the Highlands Ranch Mansion. Visit https://bit.ly/3U9op69 to learn more. Please contact info@highlandsranch.org or call 303-791-0430 with any questions.</span></span><br />\n<br />\n<span style="font-family: verdana\; font-size: 16px\;">Make this fun\, free community event your holiday tradition. Enjoy visits with Santa\, self-guided tours of the Mansion\, games with fun prizes\, holiday storytime\, vendors\, entertainment and more. Food and refreshments will be available for purchase. This all-ages event is free and no reservations are required.</span>
LOCATION:
UID:e.7785.21255
SEQUENCE:3
DTSTAMP:20260422T150044Z
URL:https://members.douglascountychamber.org/events/details/holiday-celebration-at-the-mansion-12-03-2022-21255
END:VEVENT

END:VCALENDAR
