BEGIN:VCALENDAR
VERSION:2.0
PRODID:-//ChamberMaster//Event Calendar 2.0//EN
METHOD:PUBLISH
X-PUBLISHED-TTL:P3D
REFRESH-INTERVAL:P3D
CALSCALE:GREGORIAN
BEGIN:VEVENT
DTSTART:20220919T203000Z
DTEND:20220919T213000Z
X-MICROSOFT-CDO-ALLDAYEVENT:FALSE
SUMMARY:Highlands Ranch Senior Center Groundbreaking Ceremony
DESCRIPTION:Join the Metro District on Monday\, September 19 to celebrate breaking ground on the Highlands Ranch Senior Center this fall! The groundbreaking ceremony will take place from 2:30 - 3:30 p.m. in the Mountainview Christian Church parking lot (40 E Highlands Ranch Pkwy). The ceremony will feature a short program\, light refreshments\, giveaways\, photo keepsakes and more. Visit highlandsranch.org/seniorcenter for more information about the Highlands Ranch Senior Center.
X-ALT-DESC;FMTTYPE=text/html:Join the Metro District on Monday\, September 19 to celebrate breaking ground on the Highlands Ranch Senior Center this fall! The groundbreaking ceremony will take place from 2:30 - 3:30 p.m. in the Mountainview Christian Church parking lot (40 E Highlands Ranch Pkwy). The ceremony will feature a short program\, light refreshments\, giveaways\, photo keepsakes and more. Visit highlandsranch.org/seniorcenter for more information about the Highlands Ranch Senior Center.
LOCATION:Mountainview Christian Church parking lot\, 40 E Highlands Ranch Pkwy
UID:e.7785.21028
SEQUENCE:3
DTSTAMP:20260422T192727Z
URL:https://members.douglascountychamber.org/events/details/highlands-ranch-senior-center-groundbreaking-ceremony-21028
END:VEVENT

END:VCALENDAR
