BEGIN:VCALENDAR
VERSION:2.0
PRODID:-//ChamberMaster//Event Calendar 2.0//EN
METHOD:PUBLISH
X-PUBLISHED-TTL:P3D
REFRESH-INTERVAL:P3D
CALSCALE:GREGORIAN
BEGIN:VEVENT
DTSTART:20230531T220000Z
DTEND:20230601T010000Z
X-MICROSOFT-CDO-ALLDAYEVENT:FALSE
SUMMARY:Highlands Ranch Mansion Bowling Alley Ribbon Cutting & Open House
DESCRIPTION:Join the Highlands Ranch Metro District\, the Highlands Ranch Mansion and the Highlands Ranch Park & Recreation Foundation in celebrating the Mansion's historic bowling alley during a ribbon cutting and open house on Wednesday\, May 31. The 113-year-old bowling alley was recently cleaned up and rehabilitated to allow visitors a unique peek into the past. Join us for the first public look at the one-lane alley that was originally built by owner John Springer in 1910. The bowling lane itself still shows the wear and tear of its history   complete with missing planks and aged wooden ball returns   but the entrance to the building is now open to welcome historic tour visitors. The Metro District partnered on this project with the Highlands Ranch Park & Recreation Foundation\, which enhances community projects and helps support historic preservation at the Mansion. The open house will be from 4-7 p.m. with a brief outdoor ribbon cutting ceremony at 5 p.m. Guests are invited to enjoy light refreshments and self-guided tours of the Mansion. Reservations are not required.
X-ALT-DESC;FMTTYPE=text/html:Join the Highlands Ranch Metro District\, the Highlands Ranch Mansion and the Highlands Ranch Park &amp\; Recreation Foundation in celebrating the Mansion&rsquo\;s historic bowling alley during a ribbon cutting and open house on Wednesday\, May 31. The 113-year-old bowling alley was recently cleaned up and rehabilitated to allow visitors a unique peek into the past. Join us for the first public look at the one-lane alley that was originally built by owner John Springer in 1910. The bowling lane itself still shows the wear and tear of its history &ndash\; complete with missing planks and aged wooden ball returns &ndash\; but the entrance to the building is now open to welcome historic tour visitors. The Metro District partnered on this project with the Highlands Ranch Park &amp\; Recreation Foundation\, which enhances community projects and helps support historic preservation at the Mansion. The open house will be from 4-7 p.m. with a brief outdoor ribbon cutting ceremony at 5 p.m. Guests are invited to enjoy light refreshments and self-guided tours of the Mansion. Reservations are not required.
LOCATION:Highlands Ranch Mansion\, 9950 E Gateway Drive\, Highlands Ranch\, CO 80126
UID:e.7785.21350
SEQUENCE:3
DTSTAMP:20260422T072030Z
URL:https://members.douglascountychamber.org/events/details/highlands-ranch-mansion-bowling-alley-ribbon-cutting-open-house-21350
END:VEVENT

END:VCALENDAR
