BEGIN:VCALENDAR
VERSION:2.0
PRODID:-//ChamberMaster//Event Calendar 2.0//EN
METHOD:PUBLISH
X-PUBLISHED-TTL:P3D
REFRESH-INTERVAL:P3D
CALSCALE:GREGORIAN
BEGIN:VEVENT
DTSTART:20220705T033000Z
DTEND:20220705T040000Z
X-MICROSOFT-CDO-ALLDAYEVENT:FALSE
SUMMARY:Highlands Ranch July 4 Fireworks
DESCRIPTION:Fireworks: We are excited to bring our community a fabulous fireworks show at Highlands Heritage Park. Bring your blanket\, and beverage\, and hang out to enjoy the fireworks. Food trucks to be announced.
X-ALT-DESC;FMTTYPE=text/html:Fireworks: We are excited to bring our community a fabulous fireworks show at Highlands Heritage Park. Bring your blanket\, and beverage\, and hang out to enjoy the fireworks. Food trucks to be announced.
LOCATION:Highland Heritage Park at Quebec and University is the launch site and is closed to the public.
UID:e.7785.20902
SEQUENCE:3
DTSTAMP:20260422T222503Z
URL:https://members.douglascountychamber.org/events/details/highlands-ranch-july-4-fireworks-20902
END:VEVENT

END:VCALENDAR
