BEGIN:VCALENDAR
VERSION:2.0
PRODID:-//ChamberMaster//Event Calendar 2.0//EN
METHOD:PUBLISH
X-PUBLISHED-TTL:P3D
REFRESH-INTERVAL:P3D
CALSCALE:GREGORIAN
BEGIN:VEVENT
DTSTART:20230321T150000Z
DTEND:20230321T170000Z
X-MICROSOFT-CDO-ALLDAYEVENT:FALSE
SUMMARY:Future of Work: Reshaping the Workplace
DESCRIPTION:Please join Arapahoe/Douglas Works! Business Services staff as they lead a discussion about the Future of Work: Reshaping the Workplace.\n\n\n	Understand how skill gaps create labor supply deficits.\n	Find out how remote work options can increase recruitment outreach.\n	Discover strategies to incorporate automation and artificial intelligence.\n	Hear why women are leaving the workforce and how to bring them back.\n	Realize the importance of digital literacy and ways you can help.\n	Learn how to rethink real estate strategies and reap the benefits.\n\n\nGuest Speakers\n\nPatrick Holwell   Workforce Economist\, Arapahoe/Douglas Works!\n\nKatherine Keegan   Director\, Office of the Future of Work\n\nSeating is limited!\n\nPlease RSVP to RMcCormick@arapahoegov.com by Friday\, March 17th.
X-ALT-DESC;FMTTYPE=text/html:<p><strong>Please join Arapahoe/Douglas Works! Business Services staff as they lead a discussion about the Future of Work: Reshaping the Workplace.</strong></p>\n\n<ul style="margin-left:0px\; margin-right:0px">\n	<li>Understand how skill gaps create labor supply deficits.</li>\n	<li>Find out how remote work options can increase recruitment outreach.</li>\n	<li>Discover strategies to incorporate automation and artificial intelligence.</li>\n	<li>Hear why women are leaving the workforce and how to bring them back.</li>\n	<li>Realize the importance of digital literacy and ways you can help.</li>\n	<li>Learn how to rethink real estate strategies and reap the benefits.</li>\n</ul>\n\n<p><strong>Guest Speakers</strong><br />\nPatrick Holwell &ndash\; Workforce Economist\, Arapahoe/Douglas Works!<br />\nKatherine Keegan &ndash\; Director\, Office of the Future of Work</p>\n\n<p>Seating is limited!<br />\nPlease RSVP to&nbsp\;<a href="mailto:RMcCormick@arapahoegov.com" rel="noopener" style="margin: 0px\; padding: 0px\; border: none\; box-sizing: border-box\; background: transparent\; vertical-align: baseline\; color: rgb(0\, 84\, 164)\; transition: all 0.4s ease 0s\; outline: none !important\;" target="_blank">RMcCormick@arapahoegov.com</a>&nbsp\;by Friday\, March 17th.</p>\n
LOCATION:Lima Plaza 6954 S. Lima Street Centennial\, CO 80112 Arapahoe Boardroom (inside the DMV)
UID:e.7785.21283
SEQUENCE:3
DTSTAMP:20260422T103519Z
URL:https://members.douglascountychamber.org/events/details/future-of-work-reshaping-the-workplace-21283
END:VEVENT

END:VCALENDAR
