BEGIN:VCALENDAR
VERSION:2.0
PRODID:-//ChamberMaster//Event Calendar 2.0//EN
METHOD:PUBLISH
X-PUBLISHED-TTL:P3D
REFRESH-INTERVAL:P3D
CALSCALE:GREGORIAN
BEGIN:VEVENT
DTSTART:20230331T173000Z
DTEND:20230331T183000Z
X-MICROSOFT-CDO-ALLDAYEVENT:FALSE
SUMMARY:Financial Friday with Judy Carlson via Zoom
DESCRIPTION:Join Judy Carlson\, CPA for an educational hour on Financial Health.  The second part of a 5 part series.  Grab your lunch\, a note pad and jump onto zoom!  \n\n\n\nLet's Play Defense\n\n \n\nWhat is going to knock down your best laid plans?\n\nYou can defend against them.
X-ALT-DESC;FMTTYPE=text/html:<p><span style="font-size:18px\;">Join Judy Carlson\, CPA for an educational hour on Financial Health.&nbsp\; The second part of a 5 part series.&nbsp\; Grab your lunch\, a note pad and jump onto zoom!&nbsp\;&nbsp\;<br />\n<br />\n<strong>Let&rsquo\;s Play Defense</strong><br />\n&nbsp\;<br />\nWhat is going to knock down your best laid plans?<br />\nYou can defend against them.</span><br />\n<br />\n<br />\n<br />\n&nbsp\;</p>\n
LOCATION:Register in advance for this meeting: ZOOM LINK: https://us02web.zoom.us/j/83128455600
UID:e.7785.21316
SEQUENCE:3
DTSTAMP:20260422T103812Z
URL:https://members.douglascountychamber.org/events/details/financial-friday-with-judy-carlson-via-zoom-21316
END:VEVENT

END:VCALENDAR
