BEGIN:VCALENDAR
VERSION:2.0
PRODID:-//ChamberMaster//Event Calendar 2.0//EN
METHOD:PUBLISH
X-PUBLISHED-TTL:P3D
REFRESH-INTERVAL:P3D
CALSCALE:GREGORIAN
BEGIN:VEVENT
DTSTART:20230324T143000Z
DTEND:20230324T153000Z
X-MICROSOFT-CDO-ALLDAYEVENT:FALSE
SUMMARY:Financial Friday with Judy Carlson via Zoom
DESCRIPTION:Join Judy Carlson\, CPA for an educational hour on Financial Health.  The first of a 5 part series.  Grab your coffee\, a note pad and jump onto zoom!  \n\n\n\nThe Red Zone\n\nWhat is the Red Zone when it comes to lifetime wealth management?\n\nToday is the best day to get started.\n\n\n\nhttps://us02web.zoom.us/j/83128455600
X-ALT-DESC;FMTTYPE=text/html:<p><span style="font-size:18px\;">Join Judy Carlson\, CPA for an educational hour on Financial Health.&nbsp\; The first of a 5 part series.&nbsp\; Grab your coffee\, a note pad and jump onto zoom!&nbsp\;&nbsp\;</span><br />\n<br />\n<span style="font-size:18px\;"><strong>The Red Zone</strong><br />\nWhat is the Red Zone when it comes to lifetime wealth management?<br />\nToday is the best day to get started.</span><br />\n<br />\n<span style="font-family:calibri\,sans-serif\;"><span style="font-size:11.0pt\;"><a href="https://us02web.zoom.us/j/83128455600" target="_blank">https://us02web.zoom.us/j/83128455600</a></span></span></p>\n
LOCATION:Zoom Link Below: https://us02web.zoom.us/j/83128455600
UID:e.7785.21315
SEQUENCE:3
DTSTAMP:20260422T104040Z
URL:https://members.douglascountychamber.org/events/details/financial-friday-with-judy-carlson-via-zoom-03-24-2023-21315
END:VEVENT

END:VCALENDAR
