BEGIN:VCALENDAR
VERSION:2.0
PRODID:-//ChamberMaster//Event Calendar 2.0//EN
METHOD:PUBLISH
X-PUBLISHED-TTL:P3D
REFRESH-INTERVAL:P3D
CALSCALE:GREGORIAN
BEGIN:VEVENT
DTSTART:20230531T230000Z
DTEND:20230601T001500Z
X-MICROSOFT-CDO-ALLDAYEVENT:FALSE
SUMMARY:Fascia Fitness - The Fascianator Method Class
DESCRIPTION:Fascial Health is the missing link in fitness and feeling your best! ascial Health is the missing link in fitness and feeling your best! Roll your tissues issues away with self-myofascial rolling release techniques for the full body using the Fascianator roller - It's not a "foam roller". This comprehensive rolling class will take you on a journey throughout your whole body and into the most fascinating parts of your tissue issues using the Fascianator Method for Self-Myofascial Release techniques helping you to achieve a pain free body! 75 minute Class Bring a yoga mat and bottle of water Demo rollers provided.\n\n\n\nREGISTER HERE!
X-ALT-DESC;FMTTYPE=text/html:Fascial Health is the missing link in fitness and feeling your best! ascial Health is the missing link in fitness and feeling your best! Roll your tissues issues away with self-myofascial rolling release techniques for the full body using the Fascianator roller - It&#39\;s not a &quot\;foam roller&quot\;. This comprehensive rolling class will take you on a journey throughout your whole body and into the most fascinating parts of your tissue issues using the Fascianator Method for Self-Myofascial Release techniques helping you to achieve a pain free body! 75 minute Class Bring a yoga mat and bottle of water Demo rollers provided.<br />\n<br />\n<a href="https://www.fasciafitnessonline.com/may31">REGISTER HERE!</a>
LOCATION:Highlands Ranch Public Library 9292 S Ridgeline Blvd\, Highlands Ranch\, CO 80129 Event Hall A - 3rd floor
UID:e.7785.21340
SEQUENCE:3
DTSTAMP:20260422T085138Z
URL:https://members.douglascountychamber.org/events/details/fascia-fitness-the-fascianator-method-class-21340
END:VEVENT

END:VCALENDAR
