BEGIN:VCALENDAR
VERSION:2.0
PRODID:-//ChamberMaster//Event Calendar 2.0//EN
METHOD:PUBLISH
X-PUBLISHED-TTL:P3D
REFRESH-INTERVAL:P3D
CALSCALE:GREGORIAN
BEGIN:VEVENT
DTSTART:20230128T013000Z
DTEND:20230128T023000Z
X-MICROSOFT-CDO-ALLDAYEVENT:FALSE
SUMMARY:Family Magic Show
DESCRIPTION:Do you love magic? We have an exciting family event just for you! It will be a fun\, interactive show for everyone. The evening includes mystery\, illusion\, and family-friendly comedy preformed by magician James Lopez. His humor\, wit\, and charm will engage you in fun and exciting ways!
X-ALT-DESC;FMTTYPE=text/html:Do you love magic? We have an exciting family event just for you! It will be a fun\, interactive show for everyone. The evening includes mystery\, illusion\, and family-friendly comedy preformed by magician James Lopez. His humor\, wit\, and charm will engage you in fun and exciting ways!
LOCATION:Recreation Center at Southridge
UID:e.7785.21261
SEQUENCE:3
DTSTAMP:20260422T132243Z
URL:https://members.douglascountychamber.org/events/details/family-magic-show-21261
END:VEVENT

END:VCALENDAR
