BEGIN:VCALENDAR
VERSION:2.0
PRODID:-//ChamberMaster//Event Calendar 2.0//EN
METHOD:PUBLISH
X-PUBLISHED-TTL:P3D
REFRESH-INTERVAL:P3D
CALSCALE:GREGORIAN
BEGIN:VEVENT
DTSTART:20230515T230000Z
DTEND:20230516T010000Z
X-MICROSOFT-CDO-ALLDAYEVENT:FALSE
SUMMARY:Every Mom is a Warrior
DESCRIPTION:Join us as we celebrate Mom's at HOTWORX Highlands Ranch. Come try an amazing workout then enjoy food\, fun and community. Whether you are a mom of two feet\, four feet\, no feet\, one day feet or soon to be feet....YOU are invited! Join us for community\, fun activities and a chance to win FREE prizes as we honor the true warriors of our society - our moms. Come mingle with other moms. Bring your family and friends to celebrate you\, our WARRIOR MOMS.
X-ALT-DESC;FMTTYPE=text/html:<div>\n<p>Join us as we celebrate Mom&#39\;s at HOTWORX Highlands Ranch. Come try an amazing workout then enjoy food\, fun and community. Whether you are a mom of two feet\, four feet\, no feet\, one day feet or soon to be feet....YOU are invited! Join us for community\, fun activities and a chance to win FREE prizes as we honor the true warriors of our society - our moms. Come mingle with other moms. Bring your family and friends to celebrate you\, our WARRIOR MOMS.</p>\n</div>\n
LOCATION:HOTWORX Highlands Ranch 9325 Dorchester St. Suite 123
UID:e.7785.21338
SEQUENCE:3
DTSTAMP:20260422T071551Z
URL:https://members.douglascountychamber.org/events/details/every-mom-is-a-warrior-21338
END:VEVENT

END:VCALENDAR
