BEGIN:VCALENDAR
VERSION:2.0
PRODID:-//ChamberMaster//Event Calendar 2.0//EN
METHOD:PUBLISH
X-PUBLISHED-TTL:P3D
REFRESH-INTERVAL:P3D
CALSCALE:GREGORIAN
BEGIN:VEVENT
DTSTART:20230712T230000Z
DTEND:20230713T020000Z
X-MICROSOFT-CDO-ALLDAYEVENT:FALSE
SUMMARY:Empowered Women Empower Women
DESCRIPTION:Empowered Women\, Empower Women \n\n\n\nAs a woman you have spent a lifetime using your unique strengths and gifts to propel you forward in the world. We are looking for women who want to apply those same strengths towards making smart financial decisions for the future.\n\nJoin Valorem Financial as we empower a community of women who want to build one another up while providing knowledge\, growth\, and confidence in the world of finances.\n\nIn the second of our three-part educational series on July 12\, you will learn:\n\n\n	Different account types to invest in\n	How to evaluate\, identify and measure risk in investing\n	Understanding different investment classes\n	How investments factor into your overall plan\n\nLearn more at our Happy Hour at Marmalade Lounge in Olde Town Arvada. Join us for an evening of education\, drinks\, and appetizers.\n\n\n\n\n\n\nEducational Series Parts 2 & 3\n\nJuly 12: Investments & Financial Planning\n\nJuly 26: Investments & Financial Planning Continued
X-ALT-DESC;FMTTYPE=text/html:<div class="cc-block" id="cc-block1" style="margin: 0px 0px 18px\; padding: 0px\; overflow: hidden\; color: rgb(128\, 128\, 128)\; font-family: Arial\, Helvetica\, sans-serif\; font-size: 12px\; background-color: rgb(250\, 250\, 250)\;">\n<h1 id="evm-event-title" style="margin: 0px\; padding: 0px\; font-size: 24px\; color: rgb(121\, 147\, 165)\;"><span class="cc-var" title="">Empowered Women\, Empower Women</span>&nbsp\;</h1>\n</div>\n\n<div class="cc-block" id="cc-block2" style="margin: 0px 0px 18px\; padding: 0px\; overflow: hidden\; color: rgb(128\, 128\, 128)\; font-family: Arial\, Helvetica\, sans-serif\; font-size: 12px\; background-color: rgb(250\, 250\, 250)\;">\n<p style="margin: 0px 0px 18px\; padding: 0px\;"><span style="font-size: 14pt\;" title=""><span style="color: rgb(0\, 0\, 0)\;" title="">As a woman you have spent a lifetime using your unique strengths and gifts to propel you forward in the world. We are looking for women who want to apply those same strengths towards making smart financial decisions for the future.</span></span></p>\n\n<p style="margin: 0px 0px 18px\; padding: 0px\;"><span style="font-size: 14pt\;" title=""><span style="color: rgb(0\, 0\, 0)\;" title="">Join Valorem Financial as we empower a community of women who want to build one another up while providing knowledge\, growth\, and confidence in the world of finances.</span></span></p>\n\n<p style="margin: 0px 0px 18px\; padding: 0px\;"><span style="font-size: 14pt\;" title=""><span style="color: rgb(0\, 0\, 0)\;" title="">In the second of our three-part educational series on July 12\, you will learn:</span></span></p>\n\n<ul style="margin: 18px 0px 18px 18px\; padding: 0px\; list-style-position: outside\; list-style-image: initial\;">\n	<li style="margin: 0px\; padding: 0px\; color: rgb(0\, 0\, 0)\;"><span style="font-size: 14pt\;" title=""><span title="">Different account types to invest in</span></span></li>\n	<li style="margin: 0px\; padding: 0px\; color: rgb(0\, 0\, 0)\;"><span style="font-size: 14pt\;" title=""><span title="">How to evaluate\, identify and measure risk in investing</span></span></li>\n	<li style="margin: 0px\; padding: 0px\; color: rgb(0\, 0\, 0)\;"><span style="font-size: 14pt\;" title=""><span title="">Understanding different investment classes</span></span></li>\n	<li style="margin: 0px\; padding: 0px\; color: rgb(0\, 0\, 0)\;"><span style="font-size: 14pt\;" title=""><span title="">How investments factor into your overall plan</span></span></li>\n</ul>\n<span style="font-size: 14pt\;" title=""><span style="font-size: 14pt\; color: rgb(0\, 0\, 0)\;" title="">Learn more at our Happy Hour at Marmalade Lounge in Olde Town Arvada. Join us for an evening of education\, drinks\, and appetizers.</span></span>\n\n<ul style="margin: 18px 0px 18px 18px\; padding: 0px\; list-style-position: outside\; list-style-image: initial\;">\n</ul>\n</div>\n\n<div class="cc-block" id="cc-block3" style="margin: 0px 0px 18px\; padding: 0px\; overflow: hidden\; color: rgb(128\, 128\, 128)\; font-family: Arial\, Helvetica\, sans-serif\; font-size: 12px\; background-color: rgb(250\, 250\, 250)\;">\n<p style="margin: 0px 0px 18px\; padding: 0px\; text-align: center\;"><span style="font-size: 14pt\; color: rgb(0\, 0\, 0)\;" title="">Educational Series Parts 2 &amp\; 3</span></p>\n\n<p style="margin: 0px 0px 18px\; padding: 0px\; text-align: center\;"><span style="font-size: 14pt\; color: rgb(0\, 0\, 0)\;" title="">July 12: Investments &amp\; Financial Planning</span></p>\n\n<p style="margin: 0px 0px 18px\; padding: 0px\; text-align: center\;"><span style="font-size: 14pt\; color: rgb(0\, 0\, 0)\;" title="">July 26:&nbsp\;<span title="">Investments &amp\; Financial Planning Continued</span></span></p>\n</div>\n
LOCATION:Marmalade Lounge in the basement of Clementine's Alley Entrance\, 5665 Olde Wadsworth Blvd Arvada\, CO 80002
UID:e.7785.21366
SEQUENCE:3
DTSTAMP:20260422T044327Z
URL:https://members.douglascountychamber.org/events/details/empowered-women-empower-women-21366
END:VEVENT

END:VCALENDAR
