BEGIN:VCALENDAR
VERSION:2.0
PRODID:-//ChamberMaster//Event Calendar 2.0//EN
METHOD:PUBLISH
X-PUBLISHED-TTL:P3D
REFRESH-INTERVAL:P3D
CALSCALE:GREGORIAN
BEGIN:VEVENT
DTSTART;VALUE=DATE:20221116
DTEND;VALUE=DATE:20221231
TRANSP:TRANSPARENT
X-MICROSOFT-CDO-ALLDAYEVENT:TRUE
SUMMARY:Eat the Frog Holiday Shoe Drive benefitting Soles4Souls
DESCRIPTION:We are collecting new or used athletic shoes for Soles4Souls on behalf of Frog Squad members Matt and Suzanne Collins. Please clean out your closets and bring in any shoes you can. Even old shoes can be donated and recycled. Use the QR code if you'd like to leave a monetary donation.We are collecting new or used athletic shoes for Soles4Souls on behalf of Frog Squad members Matt and Suzanne Collins. Please clean out your closets and bring in any shoes you can. Even old shoes can be donated and recycled. Use this LINK if you'd like to leave a monetary donation.\n\n\n\n**Any non-member who brings in shoes to donate will receive a free week at Eat the Frog Fitness.
X-ALT-DESC;FMTTYPE=text/html:We are collecting new or used athletic shoes for Soles4Souls on behalf of Frog Squad members Matt and Suzanne Collins. Please clean out your closets and bring in any shoes you can. Even old shoes can be donated and recycled. Use the QR code if you&#39\;d like to leave a monetary donation.We are collecting new or used athletic shoes for Soles4Souls on behalf of Frog Squad members Matt and Suzanne Collins. Please clean out your closets and bring in any shoes you can. Even old shoes can be donated and recycled. Use this <a href="https://bit.ly/Soles4SoulsCollins">LINK</a> if you&#39\;d like to leave a monetary donation.<br />\n<br />\n**Any non-member who brings in shoes to donate will receive a free week at Eat the Frog Fitness.
LOCATION:Eat the Frog Fitness Drop off bin in the front lobby 9265 S Broadway #100 Highlands Ranch CO 80129
UID:e.7785.21259
SEQUENCE:3
DTSTAMP:20260422T150407Z
URL:https://members.douglascountychamber.org/events/details/eat-the-frog-holiday-shoe-drive-benefitting-soles4souls-21259
END:VEVENT

END:VCALENDAR
