BEGIN:VCALENDAR
VERSION:2.0
PRODID:-//ChamberMaster//Event Calendar 2.0//EN
METHOD:PUBLISH
X-PUBLISHED-TTL:P3D
REFRESH-INTERVAL:P3D
CALSCALE:GREGORIAN
BEGIN:VEVENT
DTSTART:20220820T154500Z
DTEND:20220820T164500Z
X-MICROSOFT-CDO-ALLDAYEVENT:FALSE
SUMMARY:Earn Your Beer FitCamp with Aspen Grove and the BARBOX by Breckenridge Brewery
DESCRIPTION:Build your stamina with our one-hour fit camp. Hosted by Eat The Frog Fitness\, BARBOX by Breckenridge\, and Aspen Grove.\n\nAbout this event\n\nStamina is the backbone of every successful fitness plan.\n\nStart building your stamina (and enjoy a cold one) during our weekly EARN YOUR BEER FIT CAMP hosted by Eat the Frog Fitness - Highlands Ranch. The team at Eat the Frog Fitness will create a 60-minute workout circuit in the BARBOX Garden (north of Alamo Drafthouse at Aspen Grove)to help you increase your heart rate and burn calories.\n\nAfterward\, to help your recovery\, enjoy one free cold one (alcohol or non-alcohol options available) and chill out in the BARBOX Garden.\n\n$5/per person. Ticket includes:\n\n\n	60-minute fit camp session\n	One cold beverage afterward\n	Get your tickets here: https://bit.ly/AspenGroveFitCamp\n\n\nMust be 21 or older\, ID required to enjoy an alcoholic beverage. A waiver must be signed in advance of each class.\n\nAttendee must bring their own towel\, enough water to stay hydrated\, and sunscreen.\n\nA cooling station will be available at each event.\n\nOpen to all ages and fitness levels.
X-ALT-DESC;FMTTYPE=text/html:<p><strong>Build your stamina with our one-hour fit camp. Hosted by Eat The Frog Fitness\, BARBOX by Breckenridge\, and Aspen Grove.</strong></p>\n\n<p><strong>About this event</strong></p>\n\n<p>Stamina is the backbone of every successful fitness plan.</p>\n\n<p>Start building your stamina (and enjoy a cold one) during our weekly <strong>EARN YOUR BEER FIT CAMP</strong> hosted by <a href="https://www.eatthefrogfitness.com/studio-details.aspx?item=1041&amp\;loc=238534"><span style="color:rgb(220\, 161\, 13)">Eat the Frog Fitness - Highlands Ranch</span></a>. The team at Eat the Frog Fitness will create a 60-minute workout circuit in the BARBOX Garden (north of Alamo Drafthouse at Aspen Grove)to help you increase your heart rate and burn calories.</p>\n\n<p>Afterward\, to help your recovery\, enjoy one free cold one (alcohol or non-alcohol options available) and chill out in the BARBOX Garden.</p>\n\n<p><strong>$5/per person. Ticket includes:</strong></p>\n\n<ul>\n	<li>60-minute fit camp session</li>\n	<li>One cold beverage afterward</li>\n	<li>Get your tickets here:&nbsp\;https://bit.ly/AspenGroveFitCamp</li>\n</ul>\n\n<p>Must be 21 or older\, ID required to enjoy an alcoholic beverage. A waiver must be signed in advance of each class.</p>\n\n<p>Attendee must bring their own towel\, enough water to stay hydrated\, and sunscreen.</p>\n\n<p>A cooling station will be available at each event.</p>\n\n<p>Open to all ages and fitness levels.</p>\n
LOCATION:Aspen Grove Shopping Center BARBOX Garden (immediately north of the Alamo Drafthouse) 7301 S SanteFe Drive #850 Littleton CO 80120 https://bit.ly/AspenGroveFitCamp
UID:e.7785.20997
SEQUENCE:3
DTSTAMP:20260422T222915Z
URL:https://members.douglascountychamber.org/events/details/earn-your-beer-fitcamp-with-aspen-grove-and-the-barbox-by-breckenridge-brewery-08-20-2022-20997
END:VEVENT

END:VCALENDAR
