BEGIN:VCALENDAR
VERSION:2.0
PRODID:-//ChamberMaster//Event Calendar 2.0//EN
METHOD:PUBLISH
X-PUBLISHED-TTL:P3D
REFRESH-INTERVAL:P3D
CALSCALE:GREGORIAN
BEGIN:VEVENT
DTSTART:20230415T003000Z
DTEND:20230415T020000Z
X-MICROSOFT-CDO-ALLDAYEVENT:FALSE
SUMMARY:Dueling Pianos
DESCRIPTION:Dueling Pianos is a live entertainment experience that is truly unique! You will not only listen\, but will interact with singing\, dancing and song requests! Two professional pianists from HowlAtTheMoon will perform all your requests from Elton John to Journey and everything in between. No two shows are ever the same. So\, if you've attended before\, prepare for a new experience. If you've never been\, you've been missing out on a fun-filled evening that you won't soon forget! Open seating\; doors open at 6:00 P.M. Cash bar will be available. 21+ to purchase and consume alcohol. IDs will be checked.
X-ALT-DESC;FMTTYPE=text/html:Dueling Pianos is a live entertainment experience that is truly unique! You will not only listen\, but will interact with singing\, dancing and song requests! Two professional pianists from HowlAtTheMoon will perform all your requests from Elton John to Journey and everything in between. No two shows are ever the same. So\, if you&#39\;ve attended before\, prepare for a new experience. If you&#39\;ve never been\, you&#39\;ve been missing out on a fun-filled evening that you won&#39\;t soon forget! Open seating\; doors open at 6:00 P.M. Cash bar will be available. 21+ to purchase and consume alcohol. IDs will be checked.
LOCATION:Recreation Center at Southridge
UID:e.7785.21324
SEQUENCE:3
DTSTAMP:20260422T095537Z
URL:https://members.douglascountychamber.org/events/details/dueling-pianos-04-14-2023-21324
END:VEVENT

END:VCALENDAR
