BEGIN:VCALENDAR
VERSION:2.0
PRODID:-//ChamberMaster//Event Calendar 2.0//EN
METHOD:PUBLISH
X-PUBLISHED-TTL:P3D
REFRESH-INTERVAL:P3D
CALSCALE:GREGORIAN
BEGIN:VEVENT
DTSTART:20230802T220000Z
DTEND:20230803T000000Z
X-MICROSOFT-CDO-ALLDAYEVENT:FALSE
SUMMARY:Douglas County Legacy Campus Ribbon Cutting
DESCRIPTION:Help us welcome the opening of the Douglas County Legacy Campus!  Ribbon Cutting Ceremony from 4-4:45pm followed by a tour and refreshments from 4:45-6PM.
X-ALT-DESC;FMTTYPE=text/html:<span style="font-size:16px\;"><span style="font-family:verdana\;">Help us welcome the opening of the Douglas County Legacy Campus!&nbsp\; Ribbon Cutting Ceremony from 4-4:45pm followed by a tour and refreshments from 4:45-6PM.&nbsp\;</span></span>
LOCATION:
UID:e.7785.21369
SEQUENCE:3
DTSTAMP:20260422T044244Z
URL:https://members.douglascountychamber.org/events/details/douglas-county-legacy-campus-ribbon-cutting-21369
END:VEVENT

END:VCALENDAR
