BEGIN:VCALENDAR
VERSION:2.0
PRODID:-//ChamberMaster//Event Calendar 2.0//EN
METHOD:PUBLISH
X-PUBLISHED-TTL:P3D
REFRESH-INTERVAL:P3D
CALSCALE:GREGORIAN
BEGIN:VEVENT
DTSTART:20240723T173000Z
DTEND:20240723T190000Z
X-MICROSOFT-CDO-ALLDAYEVENT:FALSE
SUMMARY:DCEDC Lunch & Learn: Douglas County Homeless Initiative (DCHI) Progress
DESCRIPTION:The Douglas County Homeless Initiative (DCHI) values everyone in our community and uses a person-focused approach to balance compassion and public safety with the complex challenges of the unhoused.  DCHI utilizes a collaborative approach between the county\, law enforcement\, city council members\, mayors\, non-profit organizations\, and business owners to develop strategies that help address these challenges.  We focus on the possibility that comes with INITIATIVE among everyone working together under the "Four Cs":
X-ALT-DESC;FMTTYPE=text/html:<span id="docs-internal-guid-b307628e-7fff-89cd-8da3-77fc16c65f1c"><span style="font-size: 11pt\; font-family: Arial\, sans-serif\; color: rgb(0\, 0\, 0)\; background-color: transparent\; font-variant-numeric: normal\; font-variant-east-asian: normal\; font-variant-alternates: normal\; font-variant-position: normal\; vertical-align: baseline\; white-space-collapse: preserve\;">The Douglas County Homeless Initiative (DCHI) values everyone in our community and uses a person-focused approach to balance compassion and public safety with the complex challenges of the unhoused.&nbsp\; DCHI utilizes a collaborative approach between the county\, law enforcement\, city council members\, mayors\, non-profit organizations\, and business owners to develop strategies that help address these challenges.&nbsp\; We focus on the possibility that comes with INITIATIVE among everyone working together under the &ldquo\;Four Cs&rdquo\;:</span></span>
LOCATION:The Club at Ravenna Basement
UID:e.7785.21533
SEQUENCE:3
DTSTAMP:20260421T103746Z
URL:https://members.douglascountychamber.org/events/details/dcedc-lunch-learn-douglas-county-homeless-initiative-dchi-progress-21533
END:VEVENT

END:VCALENDAR
