BEGIN:VCALENDAR
VERSION:2.0
PRODID:-//ChamberMaster//Event Calendar 2.0//EN
METHOD:PUBLISH
X-PUBLISHED-TTL:P3D
REFRESH-INTERVAL:P3D
CALSCALE:GREGORIAN
BEGIN:VEVENT
DTSTART:20230106T143000Z
DTEND:20230106T160000Z
X-MICROSOFT-CDO-ALLDAYEVENT:FALSE
SUMMARY:DCBA 2023 Legislative Session Kick-Off
DESCRIPTION:Douglas County Business Alliance\n\n2023 Legislative Kick-Off\n\n\nPlease join the Colorado House and Senate delegation from Douglas County to discuss their legislative priorities for the 2023 General Session. This is a great event to hear from our elected officials on their leadership's priorities\, as well as potential bills they will introduce this year.  Douglas County Commissioners will also speak about legislation that could impact Douglas County businesses and residents. \n\n\n\nThe Douglas County Business Alliance (DCBA) is a coalition of business organizations with a mission to provide a single voice for the Douglas County business community. Members of DCBA include Castle Rock Chamber of Commerce\, Castle Rock Economic Development\, and Northwest Douglas County Chamber & EDC in partnership with its members who have worked tirelessly to transform Douglas County into a hub of economic activity in the state. \n\n\n\nThroughout the General Session\, DCBA representatives monitor business legislation that could impact your business and supports or opposes bills.  Information is communicated to our membership through the weekly "Under the Dome" report.
X-ALT-DESC;FMTTYPE=text/html:<div style="text-align: center\;"><span style="font-family:verdana\;"><span style="font-size:24px\;"><strong>Douglas County Business Alliance<br />\n2023 Legislative Kick-Off</strong></span></span></div>\n<br />\n<span style="font-family:verdana\;"><span style="font-size:16px\;">Please join the Colorado House and Senate delegation from Douglas County to discuss their legislative priorities for the 2023 General Session. This is a great event to hear from our elected officials on their leadership&rsquo\;s priorities\, as well as potential bills they will introduce this year.&nbsp\; Douglas County Commissioners will also speak about legislation that could impact Douglas County businesses and residents.&nbsp\;<br />\n<br />\nThe Douglas County Business Alliance (DCBA) is a coalition of business organizations with a mission to provide a single voice for the Douglas County business community. Members of DCBA include Castle Rock Chamber of Commerce\, Castle Rock Economic Development\, and Northwest Douglas County Chamber &amp\; EDC in partnership with its members who have worked tirelessly to transform Douglas County into a hub of economic activity in the state.&nbsp\;<br />\n<br />\nThroughout the General Session\, DCBA representatives monitor business legislation that could impact your business and supports or opposes bills.&nbsp\; Information is communicated to our membership through the weekly &ldquo\;Under the Dome&rdquo\; report. </span></span><br />\n&nbsp\;
LOCATION:Sky Ridge Medical Center Please RSVP by January 3\, 2023
UID:e.7785.21260
SEQUENCE:3
DTSTAMP:20260422T132113Z
URL:https://members.douglascountychamber.org/events/details/dcba-2023-legislative-session-kick-off-21260
END:VEVENT

END:VCALENDAR
