BEGIN:VCALENDAR
VERSION:2.0
PRODID:-//ChamberMaster//Event Calendar 2.0//EN
METHOD:PUBLISH
X-PUBLISHED-TTL:P3D
REFRESH-INTERVAL:P3D
CALSCALE:GREGORIAN
BEGIN:VEVENT
DTSTART:20230614T220000Z
DTEND:20230615T000000Z
X-MICROSOFT-CDO-ALLDAYEVENT:FALSE
SUMMARY:Conference Center at Ridgegate Ribbon Cutting and Celebration
DESCRIPTION:Conveniently located just 15 miles south of Denver in Lone Tree\, Colorado\, The Conference Center at RidgeGate is the area's premier stand-alone specialty event and conference center. The Conference Center at RidgeGate features seven meeting rooms\, fully equipped with audio-visual equipment\, perfect for groups of 10   150. \n\nFlexible furniture and thoughtful\, modern design elements allow for the customization of each conference room to fit the needs of any meeting or event. Plus\, the dedicated staff is always available to assist\, making planning the perfect corporate or social event easy and fun!\n\n\n\nWe will be showcasing our meeting rooms\, reception space and outdoor terrace. We will feature delicious bites from our On-Site Caterer\, Fork + Thyme. \n\n\n\nRibbon Cutting to be at 5pm!
X-ALT-DESC;FMTTYPE=text/html:<span style="font-size:14px\;"><span style="font-family:arial\;"><em>Conveniently located just 15 miles south of Denver in Lone Tree\, Colorado\, The Conference Center at RidgeGate is the area&rsquo\;s premier stand-alone specialty event and conference center. The Conference Center at RidgeGate features seven meeting rooms\, fully equipped with audio-visual equipment\, perfect for groups of 10 &ndash\; 150. </em><br />\n<em>Flexible furniture and thoughtful\, modern design elements allow for the customization of each conference room to fit the needs of any meeting or event. Plus\, the dedicated staff is always available to assist\, making planning the perfect corporate or social event easy and fun!</em><br />\n<br />\n<strong>We will be showcasing our meeting rooms\, reception space and outdoor terrace. We will feature delicious bites from our On-Site Caterer\, Fork + Thyme.&nbsp\;</strong><br />\n<br />\n<strong>Ribbon Cutting to be at 5pm!&nbsp\;&nbsp\;</strong></span></span><br />\n&nbsp\;
LOCATION:
UID:e.7785.21351
SEQUENCE:3
DTSTAMP:20260422T061539Z
URL:https://members.douglascountychamber.org/events/details/conference-center-at-ridgegate-ribbon-cutting-and-celebration-21351
END:VEVENT

END:VCALENDAR
