BEGIN:VCALENDAR
VERSION:2.0
PRODID:-//ChamberMaster//Event Calendar 2.0//EN
METHOD:PUBLISH
X-PUBLISHED-TTL:P3D
REFRESH-INTERVAL:P3D
CALSCALE:GREGORIAN
BEGIN:VEVENT
DTSTART:20230225T151000Z
DTEND:20230225T182000Z
X-MICROSOFT-CDO-ALLDAYEVENT:FALSE
SUMMARY:Complimentary Upper Body and Core Strength Workout at Eat the Frog Fitness
DESCRIPTION:PLEASE NOTE: There are 3 separate session times available for you to choose from on Saturday\, Februrary 25th\, 8:10am\, 9:20am and 10:30am. Once get your ticket on Event Brite please text the studio at 303-729-3704 to let us know which session you'd like to attend so we can reserve your spot. Limited spots available.\n\nThis strength workout will feature strength programming from the extensive Eat the Frog Fitness catalogue. You will have the opportunity to work with our unique Nubell system and Alpha Sandbags to maximize your strength session. We specialize in Personalized Group Fitness that means you get the fun environment and accountability of a group fitness class with the personal touch of a certified personal trainer as your coach. Our sessions are designed to be both challenging and accessible to all fitness levels. We believe in working in a low impact\, high intensity environment that will keep you safe and in perfect form. Don't miss this free opportunity to try us out. Stay after for a free beverage and to learn more about our amazing studio!
X-ALT-DESC;FMTTYPE=text/html:<p><strong>PLEASE NOTE:</strong> There are 3 separate session times available for you to choose from on Saturday\, Februrary 25th\, 8:10am\, 9:20am and 10:30am. Once get your ticket on Event Brite please text the studio at <strong>303-729-3704</strong> to let us know which session you&#39\;d like to attend so we can reserve your spot. Limited spots available.</p>\n\n<p>This strength workout will feature strength programming from the extensive Eat the Frog Fitness catalogue. You will have the opportunity to work with our unique Nubell system and Alpha Sandbags to maximize your strength session. We specialize in Personalized Group Fitness that means you get the fun environment and accountability of a group fitness class with the personal touch of a certified personal trainer as your coach. Our sessions are designed to be both challenging and accessible to all fitness levels. We believe in working in a low impact\, high intensity environment that will keep you safe and in perfect form. Don&#39\;t miss this free opportunity to try us out. <strong>Stay after for a free beverage and to learn more about our amazing studio!</strong></p>\n
LOCATION:Eat the Frog Fitness 9265 S Broadway #100 Highlands Ranch CO
UID:e.7785.21279
SEQUENCE:3
DTSTAMP:20260422T121336Z
URL:https://members.douglascountychamber.org/events/details/complimentary-upper-body-and-core-strength-workout-at-eat-the-frog-fitness-21279
END:VEVENT

END:VCALENDAR
