BEGIN:VCALENDAR
VERSION:2.0
PRODID:-//ChamberMaster//Event Calendar 2.0//EN
METHOD:PUBLISH
X-PUBLISHED-TTL:P3D
REFRESH-INTERVAL:P3D
CALSCALE:GREGORIAN
BEGIN:VEVENT
DTSTART:20230225T020000Z
DTEND:20230225T030000Z
X-MICROSOFT-CDO-ALLDAYEVENT:FALSE
SUMMARY:Comedy Night
DESCRIPTION:Why fight the crowds and traffic to enjoy top-notch comedy? Once again\, HRCAA brings you a night of comedy right here in Highlands Ranch. Join the hilarious comics Eddie from New York\, Stephanie McHugh\, Elliot Woolsey and Rion Evans for a night of non-stop laughs and fun.
X-ALT-DESC;FMTTYPE=text/html:Why fight the crowds and traffic to enjoy top-notch comedy? Once again\, HRCAA brings you a night of comedy right here in Highlands Ranch. Join the hilarious comics Eddie from New York\, Stephanie McHugh\, Elliot Woolsey and Rion Evans for a night of non-stop laughs and fun.
LOCATION:Recreation Center at Southridge
UID:e.7785.21266
SEQUENCE:3
DTSTAMP:20260422T120619Z
URL:https://members.douglascountychamber.org/events/details/comedy-night-02-24-2023-21266
END:VEVENT

END:VCALENDAR
