BEGIN:VCALENDAR
VERSION:2.0
PRODID:-//ChamberMaster//Event Calendar 2.0//EN
METHOD:PUBLISH
X-PUBLISHED-TTL:P3D
REFRESH-INTERVAL:P3D
CALSCALE:GREGORIAN
BEGIN:VEVENT
DTSTART:20230405T190000Z
DTEND:20230405T203000Z
X-MICROSOFT-CDO-ALLDAYEVENT:FALSE
SUMMARY:Colorado Public Health Works Registered Apprenticeships
DESCRIPTION:Colorado Public Health Works is a groundbreaking AmeriCorps Apprenticeship\n\nprogram providing career entry into the field of public health from local communities\n\nthroughout Colorado. This innovative program marks the first time AmeriCorps has\n\nintegrated with a registered community health worker apprenticeship program and is\n\npaving new pathways into the field for Colorado's next generation of public health\n\nleaders.\n\n\n\nCome learn how your organization can partner with the Colorado Public Health\n\nWorks program as a host site for apprentices and what supports are available\n\nthrough Arapahoe/Douglas Works!\n\n\n\nRegister at http://bit.ly/3T3LTKj.
X-ALT-DESC;FMTTYPE=text/html:Colorado Public Health Works is a groundbreaking AmeriCorps Apprenticeship<br />\nprogram providing career entry into the field of public health from local communities<br />\nthroughout Colorado. This innovative program marks the first time AmeriCorps has<br />\nintegrated with a registered community health worker apprenticeship program and is<br />\npaving new pathways into the field for Colorado&rsquo\;s next generation of public health<br />\nleaders.<br />\n<br />\nCome learn how your organization can partner with the Colorado Public Health<br />\nWorks program as a host site for apprentices and what supports are available<br />\nthrough Arapahoe/Douglas Works!<br />\n<br />\nRegister at <a href="https://www.adworks.org/event/colorado-public-health-works-registered-apprenticeships/">http://bit.ly/3T3LTKj</a>.&nbsp\;
LOCATION:Lima Plaza 6954 S. Lima Street Centennial\, CO 80112 Arapahoe Boardroom (inside the DMV
UID:e.7785.21321
SEQUENCE:3
DTSTAMP:20260422T085001Z
URL:https://members.douglascountychamber.org/events/details/colorado-public-health-works-registered-apprenticeships-21321
END:VEVENT

END:VCALENDAR
