BEGIN:VCALENDAR
VERSION:2.0
PRODID:-//ChamberMaster//Event Calendar 2.0//EN
METHOD:PUBLISH
X-PUBLISHED-TTL:P3D
REFRESH-INTERVAL:P3D
CALSCALE:GREGORIAN
BEGIN:VEVENT
DTSTART:20221014T143000Z
DTEND:20221014T150000Z
X-MICROSOFT-CDO-ALLDAYEVENT:FALSE
SUMMARY:Coach Jarrod's Run and Bike Club (part 1: the run)
DESCRIPTION:Coach Jarrod with Eat the Frog Fitness has put together a new Run & Bike Club!!! Join him for the first two installments in October. Get outside the studio to improve your running and/or biking.\n\n-\n\nHe will be taking a group on a 30 minute run on October 14th at 8:30am at Fly N B Park in Highlands Ranch. Sign up here: https://bit.ly/RunBikeClub\n\n-\n\nThen he will lead a 30 minute bike on October 29th at 10:00am from Carson Nature Center and South Platte Park in Littleton. Sign up here: https://bit.ly/RunBikeClub2\n\n-\n\nBeginners or advanced are welcome. All distance and all paces. Coach Jarrod as will put you through your "paces" and help you improve your run and bike game. Try to improve one of your outdoor passions by training with others while enjoying the outdoors.\n\n-\n\nThis is a free event for all!!\n\n**Must bring your own bike.
X-ALT-DESC;FMTTYPE=text/html:<div>Coach Jarrod with Eat the Frog Fitness has put together a new Run &amp\; Bike Club!!! Join him for the first two installments in October. Get outside the studio to improve your running and/or biking.</div>\n\n<div>-</div>\n\n<div>He will be taking a group on a 30 minute run on October 14th at 8:30am at Fly N B Park in Highlands Ranch. Sign up here: <span style="font-family:inherit"><a class="qi72231t nu7423ey n3hqoq4p r86q59rh b3qcqh3k fq87ekyn bdao358l fsf7x5fv rse6dlih s5oniofx m8h3af8h l7ghb35v kjdc1dyq kmwttqpk srn514ro oxkhqvkx rl78xhln nch0832m cr00lzj9 rn8ck1ys s3jn8y49 icdlwmnq cxfqmxzd ezidihy3" href="https://l.facebook.com/l.php?u=https%3A%2F%2Fbit.ly%2FRunBikeClub%3Ffbclid%3DIwAR1bDErWU8r4rNc3E9NXFH-MXD3DDM0vkQKZ-uFy4SuMkQBPujDDvPsmdao&amp\;h=AT2TsndpvkIgii9kxD7CEZVoxTqR2NdvN7D4CRVq_n_oEUH6-A9tSWXYyBG9qVAwv6uptsCdjdqu6_nweBcZnnU2-HUZS5KjM6QqAmnfDZ6kcHWs07XlBPMOeFI14XFiwo7sg9u5OQ-hvmmQg5ORVB0&amp\;__tn__=-UK-R&amp\;c[0]=AT3bcvUO6_XdykVESSgLYzcwtvwLI0H5Wq89zY34W8SaRtWH6M-FHkrBRkvnN27d9T707_mt5z4CWFe0pF1QiU8V4gjeR-vL5-4pW9ioO4djg2FhAhYV5W7NNzZx7YSKE_IAqeX9FILVv10UidfCloe5S3gqDVE-_NkssogBdfIVbo10TY0udvUhqPXxCIlTv5988zfP2SuByQM4f1l3dTzJ8okjJawo" rel="nofollow noopener" style="color: var(--blue-link)\; cursor: pointer\; text-decoration: none\; outline: none\; list-style: none\; border: 0px\; box-sizing: border-box\; text-align: inherit\; margin: 0px\; padding: 0px\; display: inline\; touch-action: manipulation\; font-family: inherit\;" tabindex="0" target="_blank">https://bit.ly/RunBikeClub</a></span></div>\n\n<div>-</div>\n\n<div>Then he will lead a 30 minute bike on October 29th at 10:00am from Carson Nature Center and South Platte Park in Littleton. Sign up here: <span style="font-family:inherit"><a class="qi72231t nu7423ey n3hqoq4p r86q59rh b3qcqh3k fq87ekyn bdao358l fsf7x5fv rse6dlih s5oniofx m8h3af8h l7ghb35v kjdc1dyq kmwttqpk srn514ro oxkhqvkx rl78xhln nch0832m cr00lzj9 rn8ck1ys s3jn8y49 icdlwmnq cxfqmxzd ezidihy3" href="https://bit.ly/RunBikeClub2?fbclid=IwAR3bmZh5FDJ4_rVz8nOKvkz68k3WoiC-_6HkRLE8RJdiLj8AlNDhIAEGGsg" rel="nofollow noopener" style="color: var(--blue-link)\; cursor: pointer\; text-decoration: none\; outline: none\; list-style: none\; border: 0px\; box-sizing: border-box\; text-align: inherit\; margin: 0px\; padding: 0px\; display: inline\; touch-action: manipulation\; font-family: inherit\;" tabindex="0" target="_blank">https://bit.ly/RunBikeClub2</a></span></div>\n\n<div>-</div>\n\n<div>Beginners or advanced are welcome. All distance and all paces. Coach Jarrod as will put you through your &quot\;paces&quot\; and help you improve your run and bike game. Try to improve one of your outdoor passions by training with others while enjoying the outdoors.</div>\n\n<div>-</div>\n\n<div>This is a free event for all!!</div>\n\n<div>**Must bring your own bike.</div>\n
LOCATION:Fly N B Park 2910 Plaza Drive Highlands Ranch CO
UID:e.7785.21034
SEQUENCE:3
DTSTAMP:20260422T193206Z
URL:https://members.douglascountychamber.org/events/details/coach-jarrod-s-run-and-bike-club-part-1-the-run-21034
END:VEVENT

END:VCALENDAR
