BEGIN:VCALENDAR
VERSION:2.0
PRODID:-//ChamberMaster//Event Calendar 2.0//EN
METHOD:PUBLISH
X-PUBLISHED-TTL:P3D
REFRESH-INTERVAL:P3D
CALSCALE:GREGORIAN
BEGIN:VEVENT
DTSTART:20240424T000000Z
DTEND:20240424T010000Z
X-MICROSOFT-CDO-ALLDAYEVENT:FALSE
SUMMARY:Children's Hospital Colorado Mental Health Town Hall
DESCRIPTION:Join us on Tuesday\, April 23rd from 6:00-7:00pm for a conversation on important and timely youth mental health topics. Our experts will discuss anxiety\, stress management and mental health crisis management. This event is free and open to the public\; therefore\, we encourage you to share this opportunity with any of your connections/network. Please register through the Eventbrite page: Mental Health Town Hall Tickets\, Tue\, Apr 23\, 2024 at 6:00 PM | Eventbrite
X-ALT-DESC;FMTTYPE=text/html:<span style="font-family:calibri\,sans-serif"><span style="font-size:11.0pt">Join us on <strong>Tuesday\, April 23<sup>rd</sup> from 6:00-7:00pm</strong> for a conversation on important and timely youth mental health topics. Our experts will discuss anxiety\, stress management and mental health crisis management. This event is free and open to the public\; therefore\, we encourage you to share this opportunity with any of your connections/network. Please register through the Eventbrite page:&nbsp\;</span></span><a href="https://www.eventbrite.com/e/mental-health-town-hall-tickets-871086823137?utm_experiment=test_share_listing&amp\;aff=ebdsshios">Mental Health Town Hall Tickets\, Tue\, Apr 23\, 2024 at 6:00 PM | Eventbrite</a><br />\n&nbsp\;
LOCATION:Virtual - Zoom link will be provided after you complete registration through the Eventbrite page.
UID:e.7785.21481
SEQUENCE:3
DTSTAMP:20260421T140450Z
URL:https://members.douglascountychamber.org/events/details/children-s-hospital-colorado-mental-health-town-hall-21481
END:VEVENT

END:VCALENDAR
