BEGIN:VCALENDAR
VERSION:2.0
PRODID:-//ChamberMaster//Event Calendar 2.0//EN
METHOD:PUBLISH
X-PUBLISHED-TTL:P3D
REFRESH-INTERVAL:P3D
CALSCALE:GREGORIAN
BEGIN:VEVENT
DTSTART:20230422T170000Z
DTEND:20230422T190000Z
X-MICROSOFT-CDO-ALLDAYEVENT:FALSE
SUMMARY:Children's Hospital Colorado Community Fest
DESCRIPTION:We are excited to invite you and your community to Children's Hospital Colorado's Community Fest on Saturday\, April 22\, from 11 a.m. to 1 p.m. at our South Campus location. The festival promises to be an amazing day filled with fun activities for the whole family. Attendees can look forward to meeting Broncos' cheerleaders\, Miles the mascot\, and Touch-A-Truck opportunities with local police and fire departments. Additionally\, there will be free caricature artist\, face painting\, photo booth\, DJ\, games\, raffle for prizes\, giveaways\, magicians and so much more.\n\n \n\nWe encourage you to share this exciting event with your network and community. This is a fantastic opportunity for families to enjoy a day filled with activities\, entertainment\, and giveaways. Free admission and free parking make it easy for everyone to attend!
X-ALT-DESC;FMTTYPE=text/html:We are excited to invite you and your community to Children&rsquo\;s Hospital Colorado&rsquo\;s Community Fest on Saturday\, April 22\, from 11 a.m. to 1 p.m. at our South Campus location. The festival promises to be an amazing day filled with fun activities for the whole family. Attendees can look forward to meeting Broncos&rsquo\; cheerleaders\, Miles the mascot\, and Touch-A-Truck opportunities with local police and fire departments. Additionally\, there will be free caricature artist\, face painting\, photo booth\, DJ\, games\, raffle for prizes\, giveaways\, magicians and so much more.<br />\n&nbsp\;<br />\nWe encourage you to share this exciting event with your network and community. This is a fantastic opportunity for families to enjoy a day filled with activities\, entertainment\, and giveaways. Free admission and free parking make it easy for everyone to attend!<br />\n&nbsp\;
LOCATION:Children's Hospital Colorado South Campus - 1811 Plaza Dr\, Highlands Ranch\, CO 80129
UID:e.7785.21330
SEQUENCE:3
DTSTAMP:20260422T101949Z
URL:https://members.douglascountychamber.org/events/details/children-s-hospital-colorado-community-fest-21330
END:VEVENT

END:VCALENDAR
