BEGIN:VCALENDAR
VERSION:2.0
PRODID:-//ChamberMaster//Event Calendar 2.0//EN
METHOD:PUBLISH
X-PUBLISHED-TTL:P3D
REFRESH-INTERVAL:P3D
CALSCALE:GREGORIAN
BEGIN:VEVENT
DTSTART:20220714T000000Z
DTEND:20220714T020000Z
X-MICROSOFT-CDO-ALLDAYEVENT:FALSE
SUMMARY:Career Informational Meeting
DESCRIPTION:Informational discussion on reasons to be in the financial services business and find out if you're a good match with a free career evaluation profile. www.mwacareers.org/lamberson RSVP 303.663.4545
X-ALT-DESC;FMTTYPE=text/html:Informational discussion on reasons to be in the financial services business and find out if you&#39\;re a good match with a free career evaluation profile. www.mwacareers.org/lamberson RSVP 303.663.4545
LOCATION:300 Plaza Dr.\, Ste 265 Highlands Ranch\, CO 80129
UID:e.7785.19071
SEQUENCE:3
DTSTAMP:20260422T223210Z
URL:https://members.douglascountychamber.org/events/details/career-informational-meeting-07-13-2022-19071
END:VEVENT

END:VCALENDAR
