BEGIN:VCALENDAR
VERSION:2.0
PRODID:-//ChamberMaster//Event Calendar 2.0//EN
METHOD:PUBLISH
X-PUBLISHED-TTL:P3D
REFRESH-INTERVAL:P3D
CALSCALE:GREGORIAN
BEGIN:VEVENT
DTSTART:20230513T000000Z
DTEND:20230513T023000Z
X-MICROSOFT-CDO-ALLDAYEVENT:FALSE
SUMMARY:Cans Festival
DESCRIPTION:Our tongue-in-cheek salute to the original Cannes Film Festival returns in 2023! Last year was such a hit we're making a sequel. No films\, but lots of canned alcohol! Feel free to taste any or all of the dozens of canned wines and cocktails now and enjoy this summer and beyond. Cans are not just for beer anymore! Discover your favorite canned drinks at this Highlands Ranch exclusive event! Summer will be here before we know it and we want you to be ready! Food trucks will be on-site (additional charge).
X-ALT-DESC;FMTTYPE=text/html:Our tongue-in-cheek salute to the original Cannes Film Festival returns in 2023! Last year was such a hit we&#39\;re making a sequel. No films\, but lots of canned alcohol! Feel free to taste any or all of the dozens of canned wines and cocktails now and enjoy this summer and beyond. Cans are not just for beer anymore! Discover your favorite canned drinks at this Highlands Ranch exclusive event! Summer will be here before we know it and we want you to be ready! Food trucks will be on-site (additional charge).
LOCATION:Recreation Center at Southridge
UID:e.7785.21323
SEQUENCE:3
DTSTAMP:20260422T071820Z
URL:https://members.douglascountychamber.org/events/details/cans-festival-05-12-2023-21323
END:VEVENT

END:VCALENDAR
