BEGIN:VCALENDAR
VERSION:2.0
PRODID:-//ChamberMaster//Event Calendar 2.0//EN
METHOD:PUBLISH
X-PUBLISHED-TTL:P3D
REFRESH-INTERVAL:P3D
CALSCALE:GREGORIAN
BEGIN:VEVENT
DTSTART:20241018T173000Z
DTEND:20241018T190000Z
X-MICROSOFT-CDO-ALLDAYEVENT:FALSE
SUMMARY:Buying vs. Leasing: What is Best for Your Business?
DESCRIPTION:Colorado SBDC - Small Businesses looking to buy or lease a physical space for their business.
X-ALT-DESC;FMTTYPE=text/html:<span style="color: rgb(68\, 68\, 68)\; font-family: Rubik\, &quot\;Open Sans&quot\;\, HelveticaNeue\, &quot\;Helvetica Neue&quot\;\, Helvetica\, Arial\, sans-serif\; font-size: 16px\;">Colorado SBDC - Small Businesses looking to buy or lease a physical space for their business.</span>
LOCATION:Via Microsoft Teams or in person at ACC- Sturm Collaboration Campus Community Room 4500 Limelight Ave\, Castle Rock\, CO 80109
UID:e.7785.21567
SEQUENCE:3
DTSTAMP:20260421T033510Z
URL:https://members.douglascountychamber.org/events/details/buying-vs-leasing-what-is-best-for-your-business-21567
END:VEVENT

END:VCALENDAR
