BEGIN:VCALENDAR
VERSION:2.0
PRODID:-//ChamberMaster//Event Calendar 2.0//EN
METHOD:PUBLISH
X-PUBLISHED-TTL:P3D
REFRESH-INTERVAL:P3D
CALSCALE:GREGORIAN
BEGIN:VEVENT
DTSTART:20230524T220000Z
DTEND:20230525T000000Z
X-MICROSOFT-CDO-ALLDAYEVENT:FALSE
SUMMARY:Business After Hours - May 2023
DESCRIPTION:Join us at beautiful Sterling Ranch for our May Business After Hours.  We will be having light bites from Sterling Ranch Community Authority Board\, drinks from Grist and networking.
X-ALT-DESC;FMTTYPE=text/html:<div style="text-align: center\;"><strong><span style="font-size:22px\;">Join us at&nbsp\;beautiful Sterling Ranch for our May Business After Hours.&nbsp\; We will be having light bites from Sterling Ranch Community Authority Board\, drinks from Grist and networking.&nbsp\;&nbsp\;<br />\n<br />\n&nbsp\;</span></strong><br />\n&nbsp\;</div>\n
LOCATION:The Sterling Center
UID:e.7785.21334
SEQUENCE:3
DTSTAMP:20260422T071649Z
URL:https://members.douglascountychamber.org/events/details/business-after-hours-may-2023-21334
END:VEVENT

END:VCALENDAR
