BEGIN:VCALENDAR
VERSION:2.0
PRODID:-//ChamberMaster//Event Calendar 2.0//EN
METHOD:PUBLISH
X-PUBLISHED-TTL:P3D
REFRESH-INTERVAL:P3D
CALSCALE:GREGORIAN
BEGIN:VEVENT
DTSTART:20230628T220000Z
DTEND:20230629T000000Z
X-MICROSOFT-CDO-ALLDAYEVENT:FALSE
SUMMARY:Business After Hours - June 2023
DESCRIPTION:Join us for drinks and BBQ at Max Taps for June Business After Hours.  We will be tasting delicious BBQ treats from GQUE BBQ and the opportunity to try a delicious beer or cider from the vast Max Taps selection!  \n\n\n\nMax Taps is a taproom showcasing the best beers Colorado has to offer! We focus on bringing the best Colorado brewed beers together in one place so you can sample many of this state's great breweries without leaving your chair! We also feature a few Colorado wines and spirits so feel free to bring your non-beer drinking friends.
X-ALT-DESC;FMTTYPE=text/html:<div style="text-align: center\;"><span style="font-family:arial\;"><span style="font-size:20px\;"><strong>Join us for drinks and BBQ at Max Taps for June Business After Hours.&nbsp\; We will be tasting delicious BBQ treats from GQUE BBQ and&nbsp\;the opportunity to try a delicious beer or cider from the vast Max Taps selection!&nbsp\;&nbsp\;</strong><br />\n<br />\n<span style="letter-spacing: 0.255974px\; white-space: pre-wrap\; background-color: rgb(255\, 255\, 255)\;">Max Taps is a taproom showcasing the best beers Colorado has to offer! We focus on bringing the best Colorado brewed beers together in one place so you can sample many of this state&#39\;s great breweries without leaving your chair! We also feature a few Colorado wines and spirits so feel free to bring your non-beer drinking friends.</span></span></span><br />\n<strong><span style="font-size:22px\;">&nbsp\;</span></strong></div>\n
LOCATION:Max Taps Highlands Ranch
UID:e.7785.21353
SEQUENCE:3
DTSTAMP:20260422T060814Z
URL:https://members.douglascountychamber.org/events/details/business-after-hours-june-2023-21353
END:VEVENT

END:VCALENDAR
