BEGIN:VCALENDAR
VERSION:2.0
PRODID:-//ChamberMaster//Event Calendar 2.0//EN
METHOD:PUBLISH
X-PUBLISHED-TTL:P3D
REFRESH-INTERVAL:P3D
CALSCALE:GREGORIAN
BEGIN:VEVENT
DTSTART:20230426T220000Z
DTEND:20230427T000000Z
X-MICROSOFT-CDO-ALLDAYEVENT:FALSE
SUMMARY:Business After Hours - April 2023
DESCRIPTION:Join us at the beautiful Hilton Garden Inn Highlands Ranch for April Business After Hours.  We will be having light bites\, drinks and networking with a special 30 minute presentation from Coach and NWDC Chamber and EDC member\, Jasmine Rice on ways to start Q2 STRONG! \n\n\n\nWe will focus on providing practical tips and strategies for individuals or teams to achieve their goals and improve their productivity in the second quarter of the year. The aim of this presentation is to help individuals or teams to stay motivated\, focused\, and productive throughout the second quarter of the year\, and to achieve their objectives and goals.
X-ALT-DESC;FMTTYPE=text/html:<div style="text-align: center\;">Join us at the beautiful Hilton Garden Inn Highlands Ranch for April Business After Hours.&nbsp\; We will be having light bites\, drinks and networking with&nbsp\;a special 30 minute presentation from Coach and NWDC Chamber and EDC member\, Jasmine Rice on ways to start Q2 STRONG!&nbsp\;<br />\n<br />\nWe will focus on providing practical tips and strategies for individuals or teams to achieve their goals and improve their productivity in the second quarter of the year. The aim of this presentation&nbsp\;is to help individuals or teams to stay motivated\, focused\, and productive throughout the second quarter of the year\, and to achieve their objectives and goals.&nbsp\;<br />\n<br />\n&nbsp\;<br />\n&nbsp\;</div>\n
LOCATION:HILTON GARDEN INN HIGHLANDS RANCH
UID:e.7785.21319
SEQUENCE:3
DTSTAMP:20260422T084652Z
URL:https://members.douglascountychamber.org/events/details/business-after-hours-april-2023-21319
END:VEVENT

END:VCALENDAR
