BEGIN:VCALENDAR
VERSION:2.0
PRODID:-//ChamberMaster//Event Calendar 2.0//EN
METHOD:PUBLISH
X-PUBLISHED-TTL:P3D
REFRESH-INTERVAL:P3D
CALSCALE:GREGORIAN
BEGIN:VEVENT
DTSTART:20220922T220000Z
DTEND:20220923T000000Z
X-MICROSOFT-CDO-ALLDAYEVENT:FALSE
SUMMARY:Blo Blow Dry Bar Grand Opening and Ribbon Cutting
DESCRIPTION:Please join us as we celebrate the Grand Opening of Blo\, Blow Dry Bar in Centennial!
X-ALT-DESC;FMTTYPE=text/html:<strong><span style="font-size:16px\;">Please join us as we celebrate the Grand Opening of Blo\, Blow Dry Bar in Centennial!&nbsp\;&nbsp\;</span></strong>
LOCATION:Cherrywood Square\, Unit #D6\, 7537 South University Boulevard\, Centennial \, Colorado 80122
UID:e.7785.21030
SEQUENCE:3
DTSTAMP:20260422T193131Z
URL:https://members.douglascountychamber.org/events/details/blo-blow-dry-bar-grand-opening-and-ribbon-cutting-21030
END:VEVENT

END:VCALENDAR
