BEGIN:VCALENDAR
VERSION:2.0
PRODID:-//ChamberMaster//Event Calendar 2.0//EN
METHOD:PUBLISH
X-PUBLISHED-TTL:P3D
REFRESH-INTERVAL:P3D
CALSCALE:GREGORIAN
BEGIN:VEVENT
DTSTART:20240925T220000Z
DTEND:20240926T000000Z
X-MICROSOFT-CDO-ALLDAYEVENT:FALSE
SUMMARY:BAH - Ivybrook Academy
DESCRIPTION:Join us at Ivybrook Academy for our Business After Hours!
X-ALT-DESC;FMTTYPE=text/html:Join us at Ivybrook Academy for our Business After Hours!
LOCATION:Ivybrook Academy - 9345 S Colorado Blvd\, Highlands Ranch\, CO 80126
UID:e.7785.21547
SEQUENCE:3
DTSTAMP:20260421T053203Z
URL:https://members.douglascountychamber.org/events/details/bah-ivybrook-academy-21547
END:VEVENT

END:VCALENDAR
