BEGIN:VCALENDAR
VERSION:2.0
PRODID:-//ChamberMaster//Event Calendar 2.0//EN
METHOD:PUBLISH
X-PUBLISHED-TTL:P3D
REFRESH-INTERVAL:P3D
CALSCALE:GREGORIAN
BEGIN:VEVENT
DTSTART:20240503T210000Z
DTEND:20240503T230000Z
X-MICROSOFT-CDO-ALLDAYEVENT:FALSE
SUMMARY:Amazing Lash Studio Ribbon Cutting
DESCRIPTION:Join NWDCCEDC at Amazing Lash Studio for a ribbon cutting as part of their grand re-opening celebrations. \n\n\n\nIn addition to the ribbon cutting on May 3rd\, they will also celebrate on the following dates:\n\n\n\nMay 4th - Happy Hour (3 to 5pm) and 50% off all products for members and when you sign up for your first full set of eyelashes. \n\n\n\nMay 5th - Happy Hour  (2 to 4pm) and 50% off all products for members and when you sign up for your first full set of eyelashes. \n\n\n\nMay 3rd - 5th - All members booked will receive 10% off their services.
X-ALT-DESC;FMTTYPE=text/html:Join NWDCCEDC at Amazing Lash Studio for a ribbon cutting as part of their grand re-opening celebrations.&nbsp\;<br />\n<br />\nIn addition to the ribbon cutting on May 3rd\, they will also celebrate on the following dates:<br />\n<br />\nMay 4th - Happy Hour (3 to 5pm) and 50% off all products for members and when you sign up for your first full set of eyelashes.&nbsp\;<br />\n<br />\nMay 5th - Happy Hour&nbsp\; (2 to 4pm) and 50% off all products for members and when you sign up for your first full set of eyelashes.&nbsp\;<br />\n<br />\nMay 3rd - 5th - All members booked will receive 10% off their services.&nbsp\;
LOCATION:ALS Highlands Ranch 9579 S. University Blvd #270 Highlands Ranch\, Colorado
UID:e.7785.21485
SEQUENCE:3
DTSTAMP:20260421T111339Z
URL:https://members.douglascountychamber.org/events/details/amazing-lash-studio-ribbon-cutting-21485
END:VEVENT

END:VCALENDAR
