BEGIN:VCALENDAR
VERSION:2.0
PRODID:-//ChamberMaster//Event Calendar 2.0//EN
METHOD:PUBLISH
X-PUBLISHED-TTL:P3D
REFRESH-INTERVAL:P3D
CALSCALE:GREGORIAN
BEGIN:VEVENT
DTSTART:20221105T150000Z
DTEND:20221105T180000Z
X-MICROSOFT-CDO-ALLDAYEVENT:FALSE
SUMMARY:Adult Health & Information Fair
DESCRIPTION:Join the Highlands Ranch Metro District and the Highlands Ranch Community Association for this free event. In addition to great informational resources and wellness screenings\, flu shots will be available. This event will feature information about active adult programming\, recreation and fitness programs\, financial information\, medication review\, handyman services\, homecare and senior living information\, Medicare information\, wellness screenings and much more.
X-ALT-DESC;FMTTYPE=text/html:Join the Highlands Ranch Metro District and the Highlands Ranch Community Association for this free event. In addition to great informational resources and wellness screenings\, flu shots will be available. This event will feature information about active adult programming\, recreation and fitness programs\, financial information\, medication review\, handyman services\, homecare and senior living information\, Medicare information\, wellness screenings and much more.
LOCATION:Recreation Center at Eastridge\, 9568 South University Boulevard\, Highlands Ranch\, CO 80126
UID:e.7785.21240
SEQUENCE:3
DTSTAMP:20260422T163339Z
URL:https://members.douglascountychamber.org/events/details/adult-health-information-fair-11-05-2022-21240
END:VEVENT

END:VCALENDAR
