BEGIN:VCALENDAR
VERSION:2.0
PRODID:-//ChamberMaster//Event Calendar 2.0//EN
METHOD:PUBLISH
X-PUBLISHED-TTL:P3D
REFRESH-INTERVAL:P3D
CALSCALE:GREGORIAN
BEGIN:VEVENT
DTSTART:20230406T173000Z
DTEND:20230406T190000Z
X-MICROSOFT-CDO-ALLDAYEVENT:FALSE
SUMMARY:Activate Your Strengths
DESCRIPTION:This workshop is for you if you're ready to 1) discover what you naturally do best\, 2) learn how to develop your greatest talents into strengths\, and 2) use your unique\, personalized results to maximize your potential. You'll be inspired to apply your CliftonStrengths  to all areas of wellbeing. Join us if spring is your season to unlock true fulfillment\, elevate goal achievement\, navigate change\, cultivate relationships\, work smarter\, not harder\, and live each day to the fullest!
X-ALT-DESC;FMTTYPE=text/html:This workshop is for you if you&rsquo\;re ready to 1) discover what you naturally do best\, 2) learn how to develop your greatest talents into strengths\, and 2) use your unique\, personalized results to maximize your potential. You&rsquo\;ll be inspired to apply your CliftonStrengths&reg\; to all areas of wellbeing. Join us if spring is your season to unlock true fulfillment\, elevate goal achievement\, navigate change\, cultivate relationships\, work smarter\, not harder\, and live each day to the fullest!
LOCATION:The Village Workspace
UID:e.7785.21325
SEQUENCE:3
DTSTAMP:20260422T084248Z
URL:https://members.douglascountychamber.org/events/details/activate-your-strengths-21325
END:VEVENT

END:VCALENDAR
