BEGIN:VCALENDAR
VERSION:2.0
PRODID:-//ChamberMaster//Event Calendar 2.0//EN
METHOD:PUBLISH
X-PUBLISHED-TTL:P3D
REFRESH-INTERVAL:P3D
CALSCALE:GREGORIAN
BEGIN:VEVENT
DTSTART:20241026T200000Z
DTEND:20241026T220000Z
X-MICROSOFT-CDO-ALLDAYEVENT:FALSE
SUMMARY:A Tres Chic Howl-O-Ween Party
DESCRIPTION:We'll have a European themed pet parade& costume contest\, a sit & stay for the paw-fect photo opp\, gourmet bark-ery trick or treating and more!
X-ALT-DESC;FMTTYPE=text/html:We&#39\;ll have a European themed pet parade&amp\; costume contest\, a sit &amp\; stay for the paw-fect photo opp\, gourmet bark-ery trick or treating and more!
LOCATION:Olive Juice Beauty Bar 3624 E Highlands Ranch Parkway. Highlands Ranch\, Co
UID:e.7785.21565
SEQUENCE:3
DTSTAMP:20260421T031705Z
URL:https://members.douglascountychamber.org/events/details/a-tres-chic-howl-o-ween-party-21565
END:VEVENT

END:VCALENDAR
