BEGIN:VCALENDAR
VERSION:2.0
PRODID:-//ChamberMaster//Event Calendar 2.0//EN
METHOD:PUBLISH
X-PUBLISHED-TTL:P3D
REFRESH-INTERVAL:P3D
CALSCALE:GREGORIAN
BEGIN:VEVENT
DTSTART;VALUE=DATE:20250616
DTEND;VALUE=DATE:20250617
TRANSP:TRANSPARENT
X-MICROSOFT-CDO-ALLDAYEVENT:TRUE
SUMMARY:2025 Annual Golf Classic
DESCRIPTION:The Douglas County EDC is thrilled to be partnering with the Douglas County Community Foundation for this year's Annual Golf Classic.\n\n\n\nAdditional details and registration information will be shared shortly.
X-ALT-DESC;FMTTYPE=text/html:The Douglas County EDC is thrilled to be partnering with the Douglas County Community Foundation for this year&#39\;s Annual Golf Classic.<br />\n<br />\nAdditional details and registration information will be shared shortly.&nbsp\;
LOCATION:The Club at Ravenna 8285 Dante Dr\, Littleton\, CO 80125
UID:e.7785.21597
SEQUENCE:3
DTSTAMP:20260420T121939Z
URL:https://members.douglascountychamber.org/events/details/2025-annual-golf-classic-21597
END:VEVENT

END:VCALENDAR
