BEGIN:VCALENDAR
VERSION:2.0
PRODID:-//ChamberMaster//Event Calendar 2.0//EN
METHOD:PUBLISH
X-PUBLISHED-TTL:P3D
REFRESH-INTERVAL:P3D
CALSCALE:GREGORIAN
BEGIN:VEVENT
DTSTART:20230216T153000Z
DTEND:20230216T190000Z
X-MICROSOFT-CDO-ALLDAYEVENT:FALSE
SUMMARY:2023 Metro Denver Retail Partnership (MDRP) Conference
DESCRIPTION:Join your colleagues at the 2023 Metro Denver Retail Partnership (MDRP) Conference!\n\nRetail\, Hospitality\, and Food & Beverage\n\nThis event is offered at no-cost.\n\n  Continental Breakfast\n\n  Keynote Presentation by Elizabeth Garner\, State Demographer\n\n  Metro Denver Area Workforce Panel\n\n  Community & Training Provider Panel\n\n  Legislative & Economic Updates\n\nAttendee Giveaways!!!!!\n\nRegister for this in-person event at https://bit.ly/3j5jzJx.
X-ALT-DESC;FMTTYPE=text/html:<p>Join your colleagues at the 2023 Metro Denver Retail Partnership (MDRP) Conference!</p>\n\n<p>Retail\, Hospitality\, and Food &amp\; Beverage</p>\n\n<p><strong>This event is offered at no-cost.</strong><br />\n&loz\; Continental Breakfast<br />\n&loz\; Keynote Presentation by Elizabeth Garner\, State Demographer<br />\n&loz\; Metro Denver Area Workforce Panel<br />\n&loz\; Community &amp\; Training Provider Panel<br />\n&loz\; Legislative &amp\; Economic Updates<br />\n<strong>Attendee Giveaways!!!!!</strong></p>\n\n<p><strong>Register for this in-person event at&nbsp\;<a href="https://bit.ly/3j5jzJx" rel="noopener" style="margin: 0px\; padding: 0px\; border: none\; box-sizing: border-box\; background: transparent\; vertical-align: baseline\; color: rgb(0\, 84\, 164)\; transition: all 0.4s ease 0s\; outline: none !important\;" target="_blank">https://bit.ly/3j5jzJx</a>.</strong></p>\n
LOCATION:CentrePoint Plaza 14980 E. Alameda Dr. Aurora\, CO 80012
UID:e.7785.21280
SEQUENCE:3
DTSTAMP:20260422T120948Z
URL:https://members.douglascountychamber.org/events/details/2023-metro-denver-retail-partnership-mdrp-conference-21280
END:VEVENT

END:VCALENDAR
