BEGIN:VCALENDAR
VERSION:2.0
PRODID:-//ChamberMaster//Event Calendar 2.0//EN
METHOD:PUBLISH
X-PUBLISHED-TTL:P3D
REFRESH-INTERVAL:P3D
CALSCALE:GREGORIAN
BEGIN:VEVENT
DTSTART:20221112T000000Z
DTEND:20221112T230000Z
X-MICROSOFT-CDO-ALLDAYEVENT:FALSE
SUMMARY:13th Annual Gift Mart on Greensborough
DESCRIPTION:Shop Local at the 13th Annual Gift Mart on Greensborough! Visit 14 local vendors as they share their products perfect for yourself or gift giving for the upcoming holidays!!
X-ALT-DESC;FMTTYPE=text/html:Shop Local at the 13th Annual Gift Mart on Greensborough! Visit 14 local vendors as they share their products perfect for yourself or gift giving for the upcoming holidays!!
LOCATION:2872 Greensborough Drive Highlands Ranch\, CO 80129
UID:e.7785.21253
SEQUENCE:3
DTSTAMP:20260422T162834Z
URL:https://members.douglascountychamber.org/events/details/13th-annual-gift-mart-on-greensborough-21253
END:VEVENT

END:VCALENDAR
